Workbook

Sheet 表紙
A12: SystemCenter
A14: ＤＢ設計書
O17: 第 | Q17: =INDEX(履历!Q5:Q49,MATCH("",履历!Q5:Q49,-1)) -> 1.0 | W17: 版
A19: 43616

Sheet 履历
A1: 種類 | G1: システム | K1: SystemCenter(クラウド用) | AB1: 作成 | AE1: 小木 | AI1: 43616
A2: DB設計書 | AB2: 更新 | AE2: 小木 | AI2: 44609
B4: 日期 | I4: 担当者 | Q4: バージョン | U4: 概要
B5: 43620 | I5: 小木 | Q5: 1.0 | U5: 新規(主旨：簡潔、英語表示)

Sheet 目次
A1: =履历!A1 -> 種類 | G1: 项目名 | K1: =履历!K1 -> SystemCenter(クラウド用) | AB1: 作成 | AE1: =履历!AE1 -> 小木 | AI1: 44650
A2: =履历!A2 -> DB設計書 | AB2: 更新 | AE2: =履历!AE2 -> 小木 | AI2: 44650
B4: DB説明概要【※IO分離の設計】
B5: M_：マスタ
B8: No | D8: テーブル名 | J8: シノニム | O8: 説明 | V8: 種類 | Z8: 備考
B9: =1 -> 1 | D9: M_Customer | J9: - | O9: お客様情報 | Z9: ホテル毎の情報
B10: =B9+1 -> 2 | D10: M_User | J10: - | O10: ユーザー情報 | Z10: クラウドのログイン情報
B11: =B10+1 -> 3 | D11: S_System | J11: - | O11: システム情報
B12: =B11+1 -> 4 | D12: S_Fee | J12: - | O12: 課金設定情報
B13: =B12+1 -> 5 | D13: D_Fee | J13: - | O13: お客様の課金明細
B14: =B13+1 -> 6 | D14: M_Address | J14: - | O14: 住所情報 | Z14: 郵便局よりダウンロードする
B15: =B14+1 -> 7 | D15: M_Holiday | J15: - | O15: 休日情報 | Z15: 国サイトから取得できる
B16: =B15+1 -> 8 | D16: S_Tax | J16: - | O16: 消費税 | Z16: 全国共通
B17: =B16+1 -> 9 | D17: S_ReducedTax | J17: - | O17: 軽減税 | Z17: 全国共通
B18: =B17+1 -> 10 | D18: M_HonorificTitle | J18: - | O18: 敬称マスタ | Z18: 全国共通
B19: =B18+1 -> 11 | J19: -
B20: =B19+1 -> 12 | J20: -
B21: =B20+1 -> 13 | J21: -
B22: =B21+1 -> 14 | J22: -
B23: =B22+1 -> 15 | J23: -
B24: =B23+1 -> 16 | J24: -
B25: =B24+1 -> 17 | J25: -
B26: =B25+1 -> 18
B27: =B26+1 -> 19
B28: =B27+1 -> 20
B29: =B28+1 -> 21
B30: =B29+1 -> 22
B31: =B30+1 -> 23
B32: =B31+1 -> 24
B33: =B32+1 -> 25
B34: =B33+1 -> 26
B35: =B34+1 -> 27
B36: =B35+1 -> 28
B37: =B36+1 -> 29
... B44: =B43+1 -> 36

Sheet Enum定数
B2: ■権限レベル(EAuthorityType)
C3: 名称 | O3: 値 | R3: 備考
C4: Normal | O4: 0 | R4: 権限関連マスタを参照し、権限を決める
C5: Supper | O5: 1 | R5: 特別権限、権限関連マスタ関係なし、任意操作可能
B7: ■言語(ELanguageType)
C8: 名称 | O8: 値 | R8: 備考
C9: Japanese | O9: 0 | R9: 日本語
C10: English | O10: 1 | R10: 英語
C11: Chinese | O11: 2 | R11: 中国語
B13: ■採番区分(ENumberType)
C14: 名称 | O14: 値 | R14: 備考
C15: Reserve | O15: 1 | R15: 予約番号
C16: Use | O16: 2 | R16: 利用番号
C17: Customer | O17: 3 | R17: 顧客番号
C18: Member | O18: 4 | R18: 会員番号
C19: Receipt | O19: 5 | R19: 領収書番号
C20: Corp | O20: 6 | R20: 法人
C21: Credit | O21: 7 | R21: クレジットカード
C22: Agent | O22: 8 | R22: エージェント
B24: ■部屋清掃状態(ERoomStatus)【MRoom毎】 ※自由定義(初期値)
C25: 名称 | O25: 値 | R25: 備考
C26: Vacant | O26: 0 | R26: 空室(清掃完了の綺麗部屋)
C27: Maid | O27: 1 | R27: 清掃指示
C28: Maiding | O28: 2 | R28: 清掃中
C29: MaidCheck | O29: 3 | R29: 点検中
C30: EarlyMake | O30: 4 | R30: 早メイク(外出後の清掃状態)
C31: FirstMake | O31: 5 | R31: 一番メイク(外出後の清掃状態)
C32: NoMake | O32: 6 | R32: ノーメイク(外出後の清掃状態)
B34: ■チェックインした部屋状態(EStayStatus) 【DUseDetail毎】
C35: 名称 | O35: 値 | R35: 備考
C36: Out | O36: 0 | R36: 外出
C37: In | O37: 1 | R37: 在室
B39: ■アウトした部屋状態(EOutStatus)【DUseDetail毎】
C40: 名称 | O40: 値 | R40: 備考
C41: Uncleaned | O41: 0 | R41: 未清掃(汚い部屋)
C42: Cleaned | O42: 1 | R42: 清掃完了の綺麗部屋
B44: ■部屋タイプ種類(ERoomKind)【MRoomType毎】
C45: 名称 | O45: 値 | R45: 備考
C46: Normal | O46: 0 | R46: 一般部屋
C47: Hall | O47: 1 | R47: 会場
...

Sheet テンプレート
A1: =履历!A1 -> 種類 | G1: 项目名 | K1: =履历!K1 -> SystemCenter(クラウド用) | AB1: 作成 | AE1: 小木 | AI1: 44609
A2: =履历!A2 -> DB設計書 | AB2: 更新 | AE2: 小木 | AI2: 44609
B4: テーブル名 | S4: PARTITION構成 | X4: myPartitionSchema | AF4: 列名 | AH4: ID
B5: 説明 | G5: 下記のデータ型しか使わない
B6: No | D6: 項目名 | K6: 説明 | S6: 型 | X6: PK | Z6: 備考
B7: 1 | D7: ID | K7: 自動識別ID例 | S7: int | X7: PK | Z7: Import、削除⇒新規を考慮の場合、AUTOを使用しない、CREATE SEQUENCE採番を進め
B8: =B7+1 -> 2 | D8: Name | K8: 名称 | S8: nvarchar(?)
B9: =B8+1 -> 3 | D9: Type1 | K9: 区分など0～255まで | S9: tinyint | Z9: 0～255
B10: =B9+1 -> 4 | D10: Type2 | K10: 2バイト数字 | S10: smallint | Z10: -32,768～32,767
B11: =B10+1 -> 5 | D11: Type3 | K11: 4バイト数字 | S11: int | Z11: -2,147,483,648～2,147,483,647
B12: =B11+1 -> 6 | D12: Type4 | K12: 8バイト数字 | S12: bigint
B13: =B12+1 -> 7 | D13: UseDate | K13: 年月日のみ | S13: int | Z13: yyyyMMdd
B14: =B13+1 -> 8 | D14: UpdateDate | K14: 更新日時 | S14: datetime | Z14: yyyy/MM/dd HH:mm:ss.fff
B15: =B14+1 -> 9 | D15: Flag | K15: 可否、フラグ | S15: bit | Z15: 0、1
B16: =B15+1 -> 10 | D16: Price | K16: 金額(9 Bytes) 標準 | S16: decimal(19, 2) | Z16: ※money=decimal(19, 4) 8byteですが、標準ではないので、使わない
B17: =B16+1 -> 11 | D17: EnName | K17: 英文字 | S17: varchar(?) | Z17: 絶対Asc文字の場合使用する
B18: =B17+1 -> 12 | D18: Data | K18: イメージなど | S18: varbinary(max) | Z18: ntext、text、imageを使用禁止
B19: =B18+1 -> 13 | D19: CinTime | K19: 時間 | S19: smallint | Z19: HHmm
B20: =B19+1 -> 14
B21: =B20+1 -> 15
B22: =B21+1 -> 16
B23: =B22+1 -> 17
B24: =B23+1 -> 18
B25: =B24+1 -> 19
B26: =B25+1 -> 20
B27: =B26+1 -> 21
B28: =B27+1 -> 22
B29: =B28+1 -> 23
B30: =B29+1 -> 24
B31: =B30+1 -> 25
... B49: =B48+1 -> 43

Sheet M_Customer
A1: =履历!A1 -> 種類 | G1: 项目名 | K1: =履历!K1 -> SystemCenter(クラウド用) | AB1: 作成 | AE1: 小木 | AI1: 44609
A2: =履历!A2 -> DB設計書 | AB2: 更新 | AE2: 小木 | AI2: 44609
B4: テーブル名 | G4: M_Customer | S4: PARTITION構成 | AF4: 列名
B5: 説明 | G5: お客様情報（ホテル毎の情報）
B6: No | D6: 項目名 | K6: 説明 | S6: 型 | X6: PK | Z6: 備考
B7: 1 | D7: ID | K7: お客様ID | S7: int | X7: PK
B8: =B7+1 -> 2 | D8: Name | K8: お客様名称 | S8: nvarchar(50)
B9: =B8+1 -> 3 | D9: Kana | K9: お客様カナ | S9: nvarchar(50)
B10: =B9+1 -> 4 | D10: SystemID | K10: システム種類 | S10: int | Z10: 例：旅館PMS、ビジネス版、勤怠管理
B11: =B10+1 -> 5 | D11: ConnectionString | K11: DB接続情報 | S11: nvarchar(500)
B12: =B11+1 -> 6
B13: =B12+1 -> 7
B14: =B13+1 -> 8
B15: =B14+1 -> 9
B16: =B15+1 -> 10
B17: =B16+1 -> 11
B18: =B17+1 -> 12
B19: =B18+1 -> 13
B20: =B19+1 -> 14
B21: =B20+1 -> 15
B22: =B21+1 -> 16
B23: =B22+1 -> 17
... B49: =B48+1 -> 43

Sheet M_User
A1: =履历!A1 -> 種類 | G1: 项目名 | K1: =履历!K1 -> SystemCenter(クラウド用) | AB1: 作成 | AE1: 小木 | AI1: 44609
A2: =履历!A2 -> DB設計書 | AB2: 更新 | AE2: 小木 | AI2: 44609
B4: テーブル名 | G4: M_User | S4: PARTITION構成 | AF4: 列名
B5: 説明 | G5: 各施設（ホテル）のユーザー情報(CustomerIDより施設DBへ接続し、M_Stuffを特定する)
B6: No | D6: 項目名 | K6: 説明 | S6: 型 | X6: PK | Z6: 備考
B7: 1 | D7: ID | K7: ログインメールなど | S7: nvarchar(50) | X7: PK | Z7: 例：front1@pmshotel.co.jp
B8: =B7+1 -> 2 | D8: Name | K8: ログイン氏名 | S8: nvarchar(50)
B9: =B8+1 -> 3 | D9: Kana | K9: カナ | S9: nvarchar(50)
B10: =B9+1 -> 4 | D10: Password | K10: パスワード | S10: nvarchar(50)
B11: =B10+1 -> 5 | D11: Token | K11: トークン | S11: nvarchar(500)
B12: =B11+1 -> 6 | D12: AccessDate | K12: 接続日 | S12: datetime
B13: =B12+1 -> 7 | D13: AccessIP | K13: 接続IP | S13: nvarchar(15)
B14: =B13+1 -> 8 | D14: ExpireSeconds | K14: 有効期限（秒） | S14: int
B15: =B14+1 -> 9 | D15: CustomerID | K15: お客様ID | S15: int | Z15: 施設ID(例：ホテルのID)
B16: =B15+1 -> 10 | D16: LoginID | K16: 担当者ID | S16: int | Z16: 対象施設共通DBのM_Loginの担当者ID
B17: =B16+1 -> 11
B18: =B17+1 -> 12
B19: =B18+1 -> 13
B20: =B19+1 -> 14
B21: =B20+1 -> 15
B22: =B21+1 -> 16
B23: =B22+1 -> 17
B24: =B23+1 -> 18
B25: =B24+1 -> 19
B26: =B25+1 -> 20
B27: =B26+1 -> 21
B28: =B27+1 -> 22
... B49: =B48+1 -> 43
