Workbook

Sheet 表紙
A12: ホテルPMS
A14: ＤＢ設計書
O17: 第 | Q17: =INDEX(履历!Q5:Q49,MATCH("",履历!Q5:Q49,-1)) -> 1.0 | W17: 版
A19: 43616

Sheet 履历
A1: 種類 | G1: システム | K1: HotelPMS(Common含む) | AB1: 作成 | AE1: 小木 | AI1: 43616
A2: DB設計書 | AB2: 更新 | AE2: 小木 | AI2: 44609
B4: 日期 | I4: 担当者 | Q4: バージョン | U4: 概要
B5: 43620 | I5: 小木 | Q5: 1.0 | U5: 新規(主旨：簡潔、英語表示)

Sheet 目次
A1: =履历!A1 -> 種類 | G1: 项目名 | K1: =履历!K1 -> HotelPMS(Common含む) | AB1: 作成 | AE1: =履历!AE1 -> 小木 | AI1: 44650
A2: =履历!A2 -> DB設計書 | AB2: 更新 | AE2: =履历!AE2 -> 小木 | AI2: 44650
B4: DB説明概要【※IO分離の設計】
B5: D_：メイン入力用業務データ R_：大範囲検索、帳票出力用分析データ (列多い場合、テーブル分割考慮 ※一レコード80KB) H_：履歴
B8: No | D8: テーブル名 | J8: シノニム | O8: 説明 | V8: 種類 | Z8: 備考
B9: =1 -> 1 | D9: D_Use | J9: - | O9: 利用情報 | V9: 業務 入力用
B10: =B9+1 -> 2 | D10: D_UseDetail | J10: - | O10: 利用明細(連泊部屋単位)
B11: =B10+1 -> 3 | D11: D_UseRoom | J11: - | O11: 利用日毎部屋情報 | Z11: パーティション(利用日別10年)
B12: =B11+1 -> 4 | D12: D_Sale | J12: - | O12: 売上 | Z12: パーティション(利用日別10年)
B13: =B12+1 -> 5 | D13: D_SaleDiv | J13: - | O13: 売上伝票分割 | Z13: パーティション(利用日別10年)
B14: =B13+1 -> 6 | D14: D_Pay | J14: - | O14: 入金 | Z14: パーティション(利用日別10年)
B15: =B14+1 -> 7 | D15: D_PayDiv | J15: - | O15: 入金伝票分割 | Z15: パーティション(利用日別10年)
B16: =B15+1 -> 8 | D16: D_UsePerson | J16: - | O16: 予約者、利用者 | Z16: ※任意記載(利用代表者必須)
B17: =B16+1 -> 9 | D17: D_UseAllo | J17: - | O17: 利用者部屋割り情報 | Z17: パーティション(利用日別10年)
B18: =B17+1 -> 10 | D18: D_UsePersonTel | J18: - | O18: 利用者電話
B19: =B18+1 -> 11 | D19: D_UseFree | J19: - | O19: 利用自由集計 | Z19: 利用、明細、部屋単位
B20: =B19+1 -> 12 | D20: D_UsePersonFree | J20: - | O20: 利用者自由集計
B21: =B20+1 -> 13 | D21: D_Receipt | J21: - | O21: 領収書情報
B22: =B21+1 -> 14 | D22: D_UseMemo | J22: - | O22: メモ
B23: =B22+1 -> 15 | D23: D_Rental | J23: - | O23: 貸出情報
B24: =B23+1 -> 16 | D24: D_Arrange | J24: - | O24: 手配情報
B25: =B24+1 -> 17 | D25: H_Use | J25: - | O25: 利用情報 | V25: 履歴 パーティション(ID別)
B26: =B25+1 -> 18
B27: =B26+1 -> 19
B28: =B27+1 -> 20
B29: =B28+1 -> 21
B30: =B29+1 -> 22
B31: =B30+1 -> 23
B32: =B31+1 -> 24
B33: =B32+1 -> 25
B34: =B33+1 -> 26
B35: =B34+1 -> 27
B36: =B35+1 -> 28
B37: =B36+1 -> 29
... B44: =B43+1 -> 36

Sheet Enum定数
B2: ■予約区分(EResvType)
C3: 名称 | O3: 値 | R3: 備考
C4: Reserve | O4: 0 | R4: 本予約
C5: Temporary | O5: 1 | R5: 仮予約
C6: NoReserve | O6: 2 | R6: 予約なし
B8: ■団体区分(EGroupType)
C9: 名称 | O9: 値 | R9: 備考
C10: Person | O10: 0 | R10: 個人
C11: Group | O11: 1 | R11: 団体
B13: ■領収書出力方式(EReceiptPrtWay)
C14: 名称 | O14: 値 | R14: 備考
C15: Room | O15: 0 | R15: 連泊部屋単位
C16: Group | O16: 1 | R16: 全利用単位
C17: BaseAdding | O17: 2 | R17: 基本一括+付帯個別
B19: ■支払方式(EPayWay)
C20: 名称 | O20: 値 | R20: 備考
C21: Room | O21: 0 | R21: 連泊部屋単位
C22: Group | O22: 1 | R22: 全利用単位
B24: ■利用状態(EUseStatus)
C25: 名称 | O25: 値 | R25: 備考
C26: None | O26: 0 | R26: なし（途中入力データ格納用など）
C27: Resv | O27: 1 | R27: 予約
C28: Cin | O28: 2 | R28: チェックイン
C29: Cout | O29: 3 | R29: チェックアウト
C30: Cancel | O30: 4 | R30: キャンセル
C31: BreakDown | O31: 5 | R31: 故障部屋
C32: Block | O32: 6 | R32: マネージャーブロック
C33: CancelWait | O33: 7 | R33: キャンセル待ち
C34: AskOnly | O34: 8 | R34: 問い合わせ
C35: Free | O35: 9 | R35: 自由領収書
B37: ■利用状態の小分類：チェックイン時(ECinStatus)
C38: 名称 | O38: 値 | R38: 備考
C39: In | O39: 0 | R39: 在室
C40: Out | O40: 1 | R40: 外出
B42: ■利用状態の小分類：アウト時(ECoutStatus)
C43: 名称 | O43: 値 | R43: 備考
C44: Uncleaned | O44: 0 | R44: 未清掃(汚い部屋)
C45: Cleaned | O45: 1 | R45: 清掃完了の綺麗部屋
B47: ■利用状態の小分類：キャンセル時(ECancelStatus)
C48: 名称 | O48: 値 | R48: 備考
...

Sheet 利用情報関連図
B2: サ税区分必ず一種類 | X2: ※連泊部屋毎単位の一元管理可能にする
B3: なしの場合、税率0とする
AF4: ■凡例
AF7: 一対多
AF9: 一対一
AF11: 多対一
AF13: 多対多
V19: 利用単位、連泊単位、日部屋単位
AB25: ※伝票があった場合、
AB26: 返却日まで日毎伝票生成
I40: 会場料金あった場合、伝票と紐づく | V40: 領収書発行時、割り勘を行う
I41: 日毎複数時間帯アサイン可能 | V41: 領収書印字明細に記載するため、伝票分割は領収書印字明細と
V42: 統合可能
V43: 又領収書に合計で計算し税金、サ税区分を記入
V44: ※領収書毎サ税区分必ず統一する
W45: 明細の伝票もそのサ税区分を従う、横計算する
W46: 最大集計日、最大科目種別で調整金額を入れる
I48: 税率単位の内訳金額一覧 | V48: ※それぞれサ税区分設計のホテルがいるか？
B52: ■UseとUseDetail運用のシナリオ
C53: Use単位でResvNoを持つ必要がない！！！
C54: 新規の時
C55: UseDetail.ResvNo⇒電話予約、ウォークイン⇒Use.ResvNo
J56: OTA⇒OTAの予約番号
C58: ①結合時
D59: 結合元 | O59: 結合先
D60: Use.UseNo=1 | O60: Use.UseNo=2
D61: ①UseDetail.ResvNo=1 | O61: ①UseDetail.ResvNo=2
D62: ②UseDetail.ResvNo=1
D64: Use.UseNo=3
D65: ①UseDetail.ResvNo=Rt0021a | Q65: Use.UseNo=2
D66: ②UseDetail.ResvNo=Rt0021a | Q66: ①UseDetail.ResvNo=2
Q67: ①UseDetail.ResvNo=1 | AC67: ←変わらない
Q68: ②UseDetail.ResvNo=1 | AC68: ←変わらない
Q69: ①UseDetail.ResvNo=Rt0021a | AC69: ←変わらない
Q70: ②UseDetail.ResvNo=Rt0021a | AC70: ←変わらない
C71: ②分割時
D72: 例：②UseDetail.ResvNo=Rt0021aを分割する
D73: ⇒新規利用作成
E74: Use.UseNo=4 ←PMS新規採番
E75: ②UseDetail.ResvNo=Rt0021a | Q75: ←変わらない
...

Sheet テンプレート
A1: =履历!A1 -> 種類 | G1: 项目名 | K1: =履历!K1 -> HotelPMS(Common含む) | AB1: 作成 | AE1: 小木 | AI1: 44609
A2: =履历!A2 -> DB設計書 | AB2: 更新 | AE2: 小木 | AI2: 44609
B4: テーブル名 | S4: PARTITION構成 | AF4: 列名
B5: 説明 | G5: 下記のデータ型しか使わない
B6: No | D6: 項目名 | K6: 説明 | S6: 型 | X6: PK | Z6: 備考
B7: 1 | D7: ID | K7: 自動識別ID例 | S7: int | X7: PK | Z7: Import、削除⇒新規を考慮の場合、AUTOを使用しない、CREATE SEQUENCE採番を進め
B8: =B7+1 -> 2 | D8: Name | K8: 名称 | S8: nvarchar(?)
B9: =B8+1 -> 3 | D9: Type1 | K9: 区分など0～255まで | S9: tinyint | Z9: 0～255
B10: =B9+1 -> 4 | D10: Type2 | K10: 2バイト数字 | S10: smallint | Z10: -32,768～32,767
B11: =B10+1 -> 5 | D11: Type3 | K11: 4バイト数字 | S11: int | Z11: -2,147,483,648～2,147,483,647
B12: =B11+1 -> 6 | D12: Type4 | K12: 8バイト数字 | S12: bigint
B13: =B12+1 -> 7 | D13: UseDate | K13: 年月日のみ | S13: int | Z13: yyyyMMdd
B14: =B13+1 -> 8 | D14: UpdateDate | K14: 更新日時 | S14: datetime | Z14: yyyy/MM/dd HH:mm:ss.fff
B15: =B14+1 -> 9 | D15: Flag | K15: 可否、フラグ | S15: bit | Z15: 0、1
B16: =B15+1 -> 10 | D16: Price | K16: 金額(9 Bytes) 標準 | S16: decimal(19, 2) | Z16: ※money=decimal(19, 4) 8byteですが、標準ではないので、使わない
B17: =B16+1 -> 11 | D17: EnName | K17: 英文字 | S17: varchar(?) | Z17: 絶対Asc文字の場合使用する
B18: =B17+1 -> 12 | D18: Data | K18: イメージなど | S18: varbinary(max) | Z18: ntext、text、imageを使用禁止
B19: =B18+1 -> 13 | D19: CinTime | K19: 時間 | S19: smallint | Z19: HHmm
B20: =B19+1 -> 14
B21: =B20+1 -> 15
B22: =B21+1 -> 16
B23: =B22+1 -> 17
B24: =B23+1 -> 18
B25: =B24+1 -> 19
B26: =B25+1 -> 20
B27: =B26+1 -> 21
B28: =B27+1 -> 22
B29: =B28+1 -> 23
B30: =B29+1 -> 24
B31: =B30+1 -> 25
... B49: =B48+1 -> 43

Sheet D_Use
A1: =履历!A1 -> 種類 | G1: 项目名 | K1: =履历!K1 -> HotelPMS(Common含む) | AB1: 作成 | AE1: 小木 | AI1: 44609
A2: =履历!A2 -> DB設計書 | AB2: 更新 | AE2: 小木 | AI2: 44609
B4: テーブル名 | G4: D_Use | S4: PARTITION関数 | AF4: 列名
B5: 説明 | G5: 利用情報
B6: No | D6: 項目名 | K6: 説明 | S6: 型 | X6: PK | Z6: 備考
B7: 1 | D7: ID | K7: 利用毎唯一な識別ID | S7: int | X7: PK | Z7: 連番[SeqUseID]
B8: =B7+1 -> 2 | D8: DetailID | K8: 代表連泊部屋ID | S8: int
B9: =B8+1 -> 3 | D9: ResvType | K9: 予約区分 | S9: tinyint | Z9: 利用明細の予約区分は全部同じ
B10: =B9+1 -> 4 | D10: GroupType | K10: 団体区分 | S10: tinyint | Z10: 0.個人 1.団体
B11: =B10+1 -> 5 | D11: GroupName | K11: 団体名称 | S11: nvarchar(50)
B12: =B11+1 -> 6 | D12: GroupKana | K12: 団体カナ | S12: nvarchar(50)
B13: =B12+1 -> 7 | D13: ReceiptPrtWay | K13: 領収書出力方式 | S13: tinyint | Z13: 0.連泊部屋単位 1.全利用単位 2.基本一括+付帯個別
B14: =B13+1 -> 8 | D14: PayWay | K14: 支払い方式 | S14: tinyint | Z14: 0.連泊部屋単位 1.全利用単位
B15: =B14+1 -> 9 | D15: CancelHotelDate | K15: キャンセル日 | S15: date
B16: =B15+1 -> 10 | D16: CancelDate | K16: キャンセル日時 | S16: datetime | Z16: 必ず全体的にキャンセル
B17: =B16+1 -> 11 | D17: CancelLoginID | K17: キャンセル担当者 | S17: int | Z17: HotelCommon.M_Login
B18: =B17+1 -> 12 | D18: CancelName | K18: キャンセル申込者 | S18: nvarchar(50)
B19: =B18+1 -> 13 | D19: CancelReason | K19: キャンセル理由 | S19: nvarchar(50)
B20: =B19+1 -> 14 | D20: CreateDate | K20: 作成日時 | S20: datetime
B21: =B20+1 -> 15 | D21: CreateLoginID | K21: 作成担当者 | S21: int | Z21: HotelCommon.M_Login
B22: =B21+1 -> 16 | D22: CreatePcName | K22: 作成端末 | S22: nvarchar(50)
B23: =B22+1 -> 17 | D23: CreateClass | K23: 作成機能ID | S23: int | Z23: S_Class(例：予約登録、手間いらずなど)
B24: =B23+1 -> 18 | D24: UpdateDate | K24: 更新日時 | S24: datetime
B25: =B24+1 -> 19 | D25: UpdateLoginID | K25: 更新担当者 | S25: int | Z25: HotelCommon.M_Login
B26: =B25+1 -> 20 | D26: UpdatePcName | K26: 更新端末 | S26: nvarchar(50)
B27: =B26+1 -> 21 | D27: UpdateClass | K27: 更新機能ID | S27: int | Z27: S_Class(例：予約登録、手間いらずなど)
B28: =B27+1 -> 22 | D28: UpdateID | K28: 更新ID | S28: int | Z28: データ更新毎自動カウント（排他用など）
B29: =B28+1 -> 23
B30: =B29+1 -> 24
B31: =B30+1 -> 25
B32: =B31+1 -> 26
B33: =B32+1 -> 27
B34: =B33+1 -> 28
B35: =B34+1 -> 29
B36: =B35+1 -> 30
B37: =B36+1 -> 31
B38: =B37+1 -> 32
B39: =B38+1 -> 33
B40: =B39+1 -> 34
... B49: =B48+1 -> 43

Sheet D_UseDetail
A1: =履历!A1 -> 種類 | G1: 项目名 | K1: =履历!K1 -> HotelPMS(Common含む) | AB1: 作成 | AE1: 小木 | AI1: 44609
A2: =履历!A2 -> DB設計書 | AB2: 更新 | AE2: 小木 | AI2: 44609
B4: テーブル名 | G4: D_UseDetail | S4: PARTITION構成 | AF4: 列名
B5: 説明 | G5: 利用明細（連泊部屋単位）
B6: No | D6: 項目名 | K6: 説明 | S6: 型 | X6: PK | Z6: 備考
B7: 1 | D7: ID | K7: 利用毎唯一な識別ID | S7: int | X7: PK
B8: =B7+1 -> 2 | D8: DetailID | K8: 連泊部屋連番 | S8: int | X8: PK | Z8: 連番[SeqUseDetailID]
B9: =B8+1 -> 3 | D9: UseStatus | K9: 利用状態 | S9: tinyint
B10: =B9+1 -> 4 | D10: SubStatus | K10: 利用状態の小分類 | S10: tinyint
B11: =B10+1 -> 5 | D11: ExtenStatus | K11: 延長状態 | S11: tinyint | Z11: 0.なし 1.延長中
B12: =B11+1 -> 6 | D12: CinDate | K12: チェックイン日 | S12: date
B13: =B12+1 -> 7 | D13: CinTime | K13: チェックイン時間 | S13: smallint | Z13: (0～2400)
B14: =B13+1 -> 8 | D14: Stay | K14: 泊数 | S14: int
B15: =B14+1 -> 9 | D15: CoutDate | K15: チェックアウト日 | S15: date
B16: =B15+1 -> 10 | D16: CoutTime | K16: チェックアウト時間 | S16: smallint | Z16: (0～2400)
B17: =B16+1 -> 11 | D17: AgentID | K17: エージェントID | S17: int | Z17: M_Agent
B18: =B17+1 -> 12 | D18: AgentBranchID | K18: 支店ID | S18: int | Z18: M_AgentBranch
B19: =B18+1 -> 13 | D19: ResvNo | K19: 予約番号 | S19: nvarchar(50) | Z19: 結合・分割でも変わらない
B20: =B19+1 -> 14 | D20: ResvDate | K20: 予約日時 | S20: datetime
B21: =B20+1 -> 15 | D21: ResvHotelDate | K21: 予約ホテル日 | S21: date
B22: =B21+1 -> 16 | D22: ResvType | K22: 予約区分 | S22: tinyint | Z22: 0.本予約 1.仮予約 2.予約なし
B23: =B22+1 -> 17 | D23: ResvPersonID | K23: 予約者 | S23: int | Z23: D_UsePerson
B24: =B23+1 -> 18 | D24: SalesLoginID | K24: 営業担当 | S24: int | Z24: M_Login
B25: =B24+1 -> 19 | D25: PayType | K25: 精算種類 | S25: tinyint | Z25: 0.現金 1.カード
B26: =B25+1 -> 20 | D26: PayItemID | K26: 精算科目ID | S26: nvarchar(50) | Z26: M_Item
B27: =B26+1 -> 21 | D27: PayAgentID | K27: 精算科目の業者ID | S27: int | Z27: M_Agent
B28: =B27+1 -> 22 | D28: PayAgentBranchID | K28: 精算科目の業者支店ID | S28: int | Z28: M_AgentBranch
B29: =B28+1 -> 23 | D29: LimitDate | K29: 予約・見積期限 | S29: date | Z29: 仮予約期限・見積期限など
B30: =B29+1 -> 24 | D30: RoomAssign | K30: 指定部屋 | S30: bit | Z30: 指定部屋かどうか
B31: =B30+1 -> 25 | D31: CreateDate | K31: 作成日時 | S31: datetime
B32: =B31+1 -> 26 | D32: CreateLoginID | K32: 作成担当者 | S32: int | Z32: M_Login
B33: =B32+1 -> 27 | D33: CreatePcName | K33: 作成端末 | S33: nvarchar(50)
B34: =B33+1 -> 28 | D34: CreateClass | K34: 作成機能ID | S34: int | Z34: S_Class(例：予約登録、手間いらずなど)
B35: =B34+1 -> 29 | D35: UpdateDate | K35: 更新日時 | S35: datetime
B36: =B35+1 -> 30 | D36: UpdateLoginID | K36: 更新担当者 | S36: int | Z36: M_Login
B37: =B36+1 -> 31 | D37: UpdatePcName | K37: 更新端末 | S37: nvarchar(50)
B38: =B37+1 -> 32 | D38: UpdateClass | K38: 更新機能ID | S38: int | Z38: S_Class(例：予約登録、手間いらずなど)
B39: =B38+1 -> 33 | D39: UpdateID | K39: 更新ID | S39: int | Z39: データ更新毎自動カウント（排他用など）

Sheet D_UseRoom
A1: =履历!A1 -> 種類 | G1: 项目名 | K1: =履历!K1 -> HotelPMS(Common含む) | AB1: 作成 | AE1: 小木 | AI1: 44609
A2: =履历!A2 -> DB設計書 | AB2: 更新 | AE2: 小木 | AI2: 44609
B4: テーブル名 | G4: D_UseRoom | S4: PARTITION構成 | X4: DatePartitionSchema | AF4: 列名 | AH4: UseDate
B5: 説明 | G5: (利用部屋情報) ※連泊部屋毎の利用日毎情報
B6: No | D6: 項目名 | K6: 説明 | S6: 型 | X6: PK | Z6: 備考
B7: 1 | D7: ID | K7: 利用毎唯一な識別ID | S7: int | X7: PK
B8: =B7+1 -> 2 | D8: DetailID | K8: 連泊部屋連番 | S8: int | X8: PK | Z8: 連泊番号、利用日毎必ず一部屋になる
B9: =B8+1 -> 3 | D9: UseDate | K9: 利用日 | S9: date | X9: PK
B10: =B9+1 -> 4 | D10: BeginTime | K10: 利用開始時間 | S10: smallint | Z10: 0～2359 (旅館の場合、時間まで)
B11: =B10+1 -> 5 | D11: EndTime | K11: 利用終了時間 | S11: smallint | Z11: 0～2359
B12: =B11+1 -> 6 | D12: RoomTypeID | K12: 部屋タイプ | S12: smallint
B13: =B12+1 -> 7 | D13: RoomKind | K13: 部屋種別 | S13: tinyint
B14: =B13+1 -> 8 | D14: RoomID | K14: 部屋ID | S14: int
B15: =B14+1 -> 9 | D15: AgentID | K15: エージェントID | S15: int
B16: =B15+1 -> 10 | D16: AgentBranchID | K16: 支店ID | S16: int
B17: =B16+1 -> 11 | D17: PersionCount | K17: 部屋利用人数 | S17: int
B18: =B17+1 -> 12 | D18: Adult | K18: 大人人数 | S18: int
B19: =B18+1 -> 13 | D19: ChildA | K19: 子供A | S19: int
B20: =B19+1 -> 14 | D20: ChildB | K20: 子供B | S20: int
B21: =B20+1 -> 15 | D21: ChildC | K21: 子供C | S21: int
B22: =B21+1 -> 16 | D22: ChildD | K22: 子供D | S22: int
B23: =B22+1 -> 17 | D23: ChildE | K23: 子供E | S23: int
... B33: =B32+1 -> 27 | D33: InFemaleInfant | K33: 内女 | S33: int
B34: =B33+1 -> 28
B35: =B34+1 -> 29
B36: =B35+1 -> 30
B37: =B36+1 -> 31
B38: =B37+1 -> 32
B39: =B38+1 -> 33
B40: =B39+1 -> 34
B41: =B40+1 -> 35
B42: =B41+1 -> 36
B43: =B42+1 -> 37
B44: =B43+1 -> 38
B45: =B44+1 -> 39
... B49: =B48+1 -> 43

Sheet D_Sale
A1: =履历!A1 -> 種類 | G1: 项目名 | K1: =履历!K1 -> HotelPMS(Common含む) | AB1: 作成 | AE1: 小木 | AI1: 44609
A2: =履历!A2 -> DB設計書 | AB2: 更新 | AE2: 小木 | AI2: 44609
B4: テーブル名 | G4: D_Sale | S4: PARTITION構成 | X4: DatePartitionSchema | AF4: 列名 | AH4: UseDate
B5: 説明 | G5: 売上伝票情報
B6: No | D6: 項目名 | K6: 説明 | S6: 型 | X6: PK | Z6: 備考
B7: 1 | D7: ID | K7: 利用毎唯一な識別ID | S7: int | X7: PK
B8: =B7+1 -> 2 | D8: DetailID | K8: 連泊部屋連番 | S8: int | X8: PK
B9: =B8+1 -> 3 | D9: UseDate | K9: 利用日 | S9: date | X9: PK | Z9: yyyyMMdd
B10: =B9+1 -> 4 | D10: SaleID | K10: 売上連番 | S10: int | X10: PK | Z10: 連番[SeqSaleID]
B11: =B10+1 -> 5 | D11: ReceiptID | K11: 領収書ID | S11: int
B12: =B11+1 -> 6 | D12: ItemID | K12: 科目ID | S12: nvarchar(50)
B13: =B12+1 -> 7 | D13: ItemName | K13: 科目名称 | S13: nvarchar(50)
B14: =B13+1 -> 8 | D14: Price | K14: 単価 | S14: decimal(19, 2)
B15: =B14+1 -> 9 | D15: Amount | K15: 数量 | S15: int
B16: =B15+1 -> 10 | D16: Summary | K16: 本体額 | S16: decimal(19, 2)
B17: =B16+1 -> 11 | D17: ServiceIOType | K17: サービス料区分 | S17: tinyint
B18: =B17+1 -> 12 | D18: ServiceSummary | K18: サービス料 | S18: decimal(19, 2)
B19: =B18+1 -> 13 | D19: ServiceRate | K19: サービス率 | S19: decimal(5, 2)
B20: =B19+1 -> 14 | D20: TaxType | K20: 消費税種類 | S20: tinyint | Z20: 0.消費税 1.軽減税
B21: =B20+1 -> 15 | D21: TaxIOType | K21: 消費税区分 | S21: tinyint
B22: =B21+1 -> 16 | D22: TaxSummary | K22: 消費税 | S22: decimal(19, 2)
B23: =B22+1 -> 17 | D23: TaxRate | K23: 消費税率 | S23: decimal(5, 2)
B24: =B23+1 -> 18 | D24: BathTaxIOType | K24: 入湯税区分 | S24: tinyint
B25: =B24+1 -> 19 | D25: BathTaxType | K25: 入湯税種類 | S25: tinyint | Z25: 0.固定 1.可変(マスタ参照)
B26: =B25+1 -> 20 | D26: BathTaxUnitPrice | K26: 入湯税単価 | S26: decimal(19, 2) | Z26: 一人毎金額
B27: =B26+1 -> 21 | D27: BathTaxSummary | K27: 入湯税 | S27: decimal(19, 2)
B28: =B27+1 -> 22 | D28: AccTaxIOType | K28: 宿泊税区分 | S28: tinyint | Z28: Accommodation Tax
B29: =B28+1 -> 23 | D29: AccTaxSummary | K29: 宿泊税 | S29: decimal(19, 2)
B30: =B29+1 -> 24 | D30: TotalSummary | K30: 売上合計 | S30: decimal(19, 2)
B31: =B30+1 -> 25 | D31: DiscountRate | K31: 割引き率 | S31: decimal(5, 2)
B32: =B31+1 -> 26 | D32: DiscountSummary | K32: 割引き額 | S32: decimal(19, 2)
B33: =B32+1 -> 27 | D33: DiscountID | K33: 割引理由 | S33: int
B34: =B33+1 -> 28 | D34: Pack | K34: パックかどうか | S34: bit | Z34: 0.通常 1.パック
B35: =B34+1 -> 29 | D35: PackChild | K35: パックの内訳かどうか | S35: bit
B36: =B35+1 -> 30 | D36: PackSaleID | K36: パック親ID | S36: int
B37: =B36+1 -> 31 | D37: PersonType | K37: 人物種類 | S37: tinyint
B38: =B37+1 -> 32 | D38: PersonCount | K38: 人数 | S38: int
B39: =B38+1 -> 33 | D39: InFemale | K39: 内女 | S39: int
B40: =B39+1 -> 34 | D40: UseType | K40: 科目使用種類 | S40: tinyint | Z40: 0.ルームチャージ 1.一人単価
B41: =B40+1 -> 35 | D41: BaseAmount | K41: 基本数量 | S41: int | Z41: 一人単価時の基本数量(人数連動用)
...

Sheet D_SaleDiv
A1: =履历!A1 -> 種類 | G1: 项目名 | K1: =履历!K1 -> HotelPMS(Common含む) | AB1: 作成 | AE1: 小木 | AI1: 44609
A2: =履历!A2 -> DB設計書 | AB2: 更新 | AE2: 小木 | AI2: 44609
B4: テーブル名 | G4: D_SaleDiv | S4: PARTITION構成 | X4: DatePartitionSchema | AF4: 列名 | AH4: UseDate
B5: 説明 | G5: 売上伝票分割(領収書割り勘用)
B6: No | D6: 項目名 | K6: 説明 | S6: 型 | X6: PK | Z6: 備考
B7: 1 | D7: ID | K7: 利用毎唯一な識別ID | S7: int | X7: PK
B8: =B7+1 -> 2 | D8: DetailID | K8: 連泊部屋連番 | S8: int | X8: PK
B9: =B8+1 -> 3 | D9: UseDate | K9: 利用日 | S9: date | X9: PK
B10: =B9+1 -> 4 | D10: SaleID | K10: 売上連番 | S10: int | X10: PK
B11: =B10+1 -> 5 | D11: RowNo | K11: 連番 | S11: smallint | X11: PK | Z11: メモリ中で制御
B12: =B11+1 -> 6 | D12: ReceiptID | K12: 領収書ID | S12: int
B13: =B12+1 -> 7 | D13: Price | K13: 単価 | S13: decimal(19, 2)
B14: =B13+1 -> 8 | D14: Amount | K14: 数量 | S14: int
B15: =B14+1 -> 9 | D15: Summary | K15: 本体額 | S15: decimal(19, 2)
B16: =B15+1 -> 10 | D16: ServiceSummary | K16: サービス料 | S16: decimal(19, 2)
B17: =B16+1 -> 11 | D17: TaxSummary | K17: 消費税 | S17: decimal(19, 2)
B18: =B17+1 -> 12 | D18: BathTaxSummary | K18: 入湯税 | S18: decimal(19, 2)
B19: =B18+1 -> 13 | D19: AccTaxSummary | K19: 宿泊税 | S19: decimal(19, 2)
B20: =B19+1 -> 14 | D20: TotalSummary | K20: 売上合計 | S20: decimal(19, 2)
B21: =B20+1 -> 15 | D21: DiscountSummary | K21: 割引き額 | S21: decimal(19, 2)
B22: =B21+1 -> 16 | D22: ReceiptPrtType | K22: 領収書印字区分 | S22: tinyint | Z22: 0.印字しない 1.印字 2.印字済
B23: =B22+1 -> 17 | D23: ReceiptPage | K23: 領収書印字頁 | S23: smallint
B24: =B23+1 -> 18
B25: =B24+1 -> 19
B26: =B25+1 -> 20
B27: =B26+1 -> 21
B28: =B27+1 -> 22
B29: =B28+1 -> 23
B30: =B29+1 -> 24
B31: =B30+1 -> 25
B32: =B31+1 -> 26
B33: =B32+1 -> 27
B34: =B33+1 -> 28
B35: =B34+1 -> 29
... B49: =B48+1 -> 43

Sheet D_Pay
A1: =履历!A1 -> 種類 | G1: 项目名 | K1: =履历!K1 -> HotelPMS(Common含む) | AB1: 作成 | AE1: 小木 | AI1: 44609
A2: =履历!A2 -> DB設計書 | AB2: 更新 | AE2: 小木 | AI2: 44609
B4: テーブル名 | G4: D_Pay | S4: PARTITION構成 | X4: DatePartitionSchema | AF4: 列名 | AH4: UseDate
B5: 説明 | G5: 入金情報
B6: No | D6: 項目名 | K6: 説明 | S6: 型 | X6: PK | Z6: 備考
B7: 1 | D7: ID | K7: 利用毎唯一な識別ID | S7: int | X7: PK
B8: =B7+1 -> 2 | D8: DetailID | K8: 連泊部屋連番 | S8: int | X8: PK
B9: =B8+1 -> 3 | D9: UseDate | K9: 利用日 | S9: date | X9: PK
B10: =B9+1 -> 4 | D10: PayID | K10: 入金連番 | S10: int | X10: PK
B11: =B10+1 -> 5 | D11: ReceiptID | K11: 領収書ID | S11: int
B12: =B11+1 -> 6 | D12: PayType | K12: 入金種別 | S12: tinyint
B13: =B12+1 -> 7 | D13: ItemID | K13: 科目ID | S13: nvarchar(50)
B14: =B13+1 -> 8 | D14: ItemName | K14: 科目名称 | S14: nvarchar(50)
B15: =B14+1 -> 9 | D15: PaySummary | K15: 入金金額 | S15: decimal(19, 2)
B16: =B15+1 -> 10 | D16: PackSaleID | K16: 支払い対象売上 | S16: int
B17: =B16+1 -> 11 | D17: ReceiptItemName | K17: 領収書印字名 | S17: nvarchar(50)
B18: =B17+1 -> 12 | D18: ReceiptPrtType | K18: 領収書印字区分 | S18: tinyint | Z18: 0.印字しない 1.印字 2.印字済
B19: =B18+1 -> 13 | D19: ReceiptPage | K19: 領収書印字頁 | S19: smallint
B20: =B19+1 -> 14 | D20: AgentID | K20: 売掛先 | S20: int | Z20: 例：入金カード会社、売掛先など
B21: =B20+1 -> 15 | D21: AgentBranchID | K21: 売掛先支店 | S21: int
B22: =B21+1 -> 16 | D22: CustomerID | K22: 顧客ID | S22: int | Z22: 予約精算金の対象顧客
B23: =B22+1 -> 17
B24: =B23+1 -> 18
B25: =B24+1 -> 19
B26: =B25+1 -> 20
B27: =B26+1 -> 21
B28: =B27+1 -> 22
B29: =B28+1 -> 23
B30: =B29+1 -> 24
B31: =B30+1 -> 25
B32: =B31+1 -> 26
B33: =B32+1 -> 27
B34: =B33+1 -> 28
... B49: =B48+1 -> 43

Sheet D_PayDiv
A1: =履历!A1 -> 種類 | G1: 项目名 | K1: =履历!K1 -> HotelPMS(Common含む) | AB1: 作成 | AE1: 小木 | AI1: 44609
A2: =履历!A2 -> DB設計書 | AB2: 更新 | AE2: 小木 | AI2: 44609
B4: テーブル名 | G4: D_PayDiv | S4: PARTITION構成 | X4: DatePartitionSchema | AF4: 列名 | AH4: UseDate
B5: 説明 | G5: 入金伝票分割情報(領収割勘用)
B6: No | D6: 項目名 | K6: 説明 | S6: 型 | X6: PK | Z6: 備考
B7: 1 | D7: ID | K7: 利用毎唯一な識別ID | S7: int | X7: PK
B8: =B7+1 -> 2 | D8: DetailID | K8: 連泊部屋連番 | S8: int | X8: PK
B9: =B8+1 -> 3 | D9: UseDate | K9: 利用日 | S9: date | X9: PK
B10: =B9+1 -> 4 | D10: PayID | K10: 入金連番 | S10: int | X10: PK
B11: =B10+1 -> 5 | D11: RowNo | K11: 連番 | S11: smallint | X11: PK
B12: =B11+1 -> 6 | D12: ReceiptID | K12: 領収書ID | S12: int
B13: =B12+1 -> 7 | D13: PaySummary | K13: 入金金額 | S13: decimal(19, 2)
B14: =B13+1 -> 8 | D14: SaleRowNo | K14: 売上分割伝票の連番 | S14: int
B15: =B14+1 -> 9 | D15: ReceiptPrtType | K15: 領収書印字区分 | S15: tinyint | Z15: 0.印字しない 1.印字 2.印字済
B16: =B15+1 -> 10 | D16: ReceiptPage | K16: 領収書印字頁 | S16: smallint
B17: =B16+1 -> 11
B18: =B17+1 -> 12
B19: =B18+1 -> 13
B20: =B19+1 -> 14
B21: =B20+1 -> 15
B22: =B21+1 -> 16
B23: =B22+1 -> 17
B24: =B23+1 -> 18
B25: =B24+1 -> 19
B26: =B25+1 -> 20
B27: =B26+1 -> 21
B28: =B27+1 -> 22
... B49: =B48+1 -> 43

Sheet D_UsePerson
A1: =履历!A1 -> 種類 | G1: 项目名 | K1: =履历!K1 -> HotelPMS(Common含む) | AB1: 作成 | AE1: 小木 | AI1: 44609
A2: =履历!A2 -> DB設計書 | AB2: 更新 | AE2: 小木 | AI2: 44609
B4: テーブル名 | G4: D_UsePerson | S4: PARTITION構成 | AF4: 列名
B5: 説明 | G5: 利用者情報
B6: No | D6: 項目名 | K6: 説明 | S6: 型 | X6: PK | Z6: 備考
B7: 1 | D7: ID | K7: 利用毎唯一な識別ID | S7: int | X7: PK
B8: =B7+1 -> 2 | D8: PersonID | K8: 利用者ID | S8: int | X8: PK | Z8: 連番[SeqUsePerson]
B9: =B8+1 -> 3 | D9: CustomerID | K9: 顧客ID | S9: int | Z9: 顧客の場合、データを割付
B10: =B9+1 -> 4 | D10: MemberNo | K10: 会員番号 | S10: nvarchar(50)
B11: =B10+1 -> 5 | D11: Kana | K11: カナ | S11: nvarchar(50)
B12: =B11+1 -> 6 | D12: Name | K12: 氏名 | S12: nvarchar(50)
B13: =B12+1 -> 7 | D13: ReceiptName | K13: 宛名 | S13: nvarchar(50)
B14: =B13+1 -> 8 | D14: ZipCode | K14: 郵便番号 | S14: varchar(50)
B15: =B14+1 -> 9 | D15: Prefecture | K15: 都道府県 | S15: nvarchar(20)
B16: =B15+1 -> 10 | D16: Address2 | K16: 都市 | S16: nvarchar(50)
B17: =B16+1 -> 11 | D17: Address3 | K17: 市町村 | S17: nvarchar(50)
B18: =B17+1 -> 12 | D18: Address4 | K18: 番地など | S18: nvarchar(100)
B19: =B18+1 -> 13 | D19: Mail | K19: メール | S19: nvarchar(100)
B20: =B19+1 -> 14 | D20: PassportNo | K20: パスポート | S20: nvarchar(50)
B21: =B20+1 -> 15 | D21: Sex | K21: 性別 | S21: tinyint | Z21: 0.不明 1.男性 2.女性
B22: =B21+1 -> 16 | D22: BirthDay | K22: 誕生日 | S22: date
B23: =B22+1 -> 17 | D23: Anniversary | K23: 記念日 | S23: date
B24: =B23+1 -> 18 | D24: CharacterType | K24: 人物タイプ | S24: int
B25: =B24+1 -> 19 | D25: RankID | K25: タンクID | S25: int
B26: =B25+1 -> 20 | D26: CorpID | K26: 法人ID | S26: int
B27: =B26+1 -> 21 | D27: CorpKana | K27: 法人カナ | S27: nvarchar(50)
B28: =B27+1 -> 22 | D28: CorpName | K28: 法人名称 | S28: nvarchar(50)
B29: =B28+1 -> 23 | D29: CorpZipCode | K29: 法人郵便番号 | S29: varchar(50)
B30: =B29+1 -> 24 | D30: CorpPrefecture | K30: 都道府県 | S30: nvarchar(20)
B31: =B30+1 -> 25 | D31: CorpAddress2 | K31: 都市 | S31: nvarchar(50)
B32: =B31+1 -> 26 | D32: CorpAddress3 | K32: 市町村 | S32: nvarchar(50)
B33: =B32+1 -> 27 | D33: CorpAddress4 | K33: 番地など | S33: nvarchar(100)
... B36: =B35+1 -> 30 | D36: Memo | K36: 備考 | S36: nvarchar(500)
B37: =B36+1 -> 31 | D37: AreaID | K37: 地域ID | S37: int | Z37: HotelCommon.M_Area
B38: =B37+1 -> 32
B39: =B38+1 -> 33
B40: =B39+1 -> 34
B41: =B40+1 -> 35
B42: =B41+1 -> 36
B43: =B42+1 -> 37
...

Sheet D_UseAllo
A1: =履历!A1 -> 種類 | G1: 项目名 | K1: =履历!K1 -> HotelPMS(Common含む) | AB1: 作成 | AE1: 小木 | AI1: 44609
A2: =履历!A2 -> DB設計書 | AB2: 更新 | AE2: 小木 | AI2: 44609
B4: テーブル名 | G4: D_UseAllo | S4: PARTITION構成 | X4: DatePartitionSchema | AF4: 列名 | AH4: UseDate
B5: 説明 | G5: 部屋割り情報（利用者と日毎部屋の紐付け）
B6: No | D6: 項目名 | K6: 説明 | S6: 型 | X6: PK | Z6: 備考
B7: 1 | D7: ID | K7: 利用毎唯一な識別ID | S7: int | X7: PK
B8: =B7+1 -> 2 | D8: DetailID | K8: 連泊部屋連番 | S8: int | X8: PK
B9: =B8+1 -> 3 | D9: UseDate | K9: 利用日 | S9: date | X9: PK
B10: =B9+1 -> 4 | D10: PersonID | K10: 利用者ID | S10: int | X10: PK
B11: =B10+1 -> 5
B12: =B11+1 -> 6
B13: =B12+1 -> 7
B14: =B13+1 -> 8
B15: =B14+1 -> 9
B16: =B15+1 -> 10
B17: =B16+1 -> 11
B18: =B17+1 -> 12
B19: =B18+1 -> 13
B20: =B19+1 -> 14
B21: =B20+1 -> 15
B22: =B21+1 -> 16
... B49: =B48+1 -> 43

Sheet D_UsePersonTel
A1: =履历!A1 -> 種類 | G1: 项目名 | K1: =履历!K1 -> HotelPMS(Common含む) | AB1: 作成 | AE1: 小木 | AI1: 44609
A2: =履历!A2 -> DB設計書 | AB2: 更新 | AE2: 小木 | AI2: 44609
B4: テーブル名 | G4: D_UsePersonTel | S4: PARTITION構成 | AF4: 列名
B5: 説明 | G5: 利用者電話
B6: No | D6: 項目名 | K6: 説明 | S6: 型 | X6: PK | Z6: 備考
B7: 1 | D7: ID | K7: 利用毎唯一な識別ID | S7: int | X7: PK
B8: =B7+1 -> 2 | D8: PersonID | K8: 利用者ID | S8: int | X8: PK
B9: =B8+1 -> 3 | D9: Tel | K9: 電話番号 | S9: varchar(50) | X9: PK
B10: =B9+1 -> 4 | D10: Kind | K10: 種類 | S10: tinyint | Z10: 0.携帯 1.自宅
B11: =B10+1 -> 5 | D11: SearchKey | K11: 検索用「-」除く | S11: varchar(50) | Z11: 検索用電話番号
B12: =B11+1 -> 6 | D12: SortID | K12: 優先順 | S12: tinyint
B13: =B12+1 -> 7
B14: =B13+1 -> 8
B15: =B14+1 -> 9
B16: =B15+1 -> 10
B17: =B16+1 -> 11
B18: =B17+1 -> 12
B19: =B18+1 -> 13
B20: =B19+1 -> 14
B21: =B20+1 -> 15
B22: =B21+1 -> 16
B23: =B22+1 -> 17
B24: =B23+1 -> 18
... B49: =B48+1 -> 43

Sheet D_UseFree
A1: =履历!A1 -> 種類 | G1: 项目名 | K1: =履历!K1 -> HotelPMS(Common含む) | AB1: 作成 | AE1: 小木 | AI1: 44609
A2: =履历!A2 -> DB設計書 | AB2: 更新 | AE2: 小木 | AI2: 44609
B4: テーブル名 | G4: D_UseFree | S4: PARTITION構成 | AF4: 列名
B5: 説明 | G5: 自由集計(NoSQL式で管理しべき)
B6: No | D6: 項目名 | K6: 説明 | S6: 型 | X6: PK | Z6: 備考
B7: 1 | D7: ID | K7: 利用毎唯一な識別ID | S7: int | X7: PK
B8: =B7+1 -> 2 | D8: DetailID | K8: 連泊部屋連番 | S8: int | X8: PK | Z8: 利用毎の場合、0
B9: =B8+1 -> 3 | D9: UseDate | K9: 利用日 | S9: date | X9: PK | Z9: 利用毎、連泊毎の場合、0
B10: =B9+1 -> 4 | D10: TypeID | K10: 種類 | S10: int | X10: PK | Z10: 自由集計項目の種類
B11: =B10+1 -> 5 | D11: DataValue | K11: 値 | S11: nvarchar(500)
B12: =B11+1 -> 6
B13: =B12+1 -> 7
B14: =B13+1 -> 8
B15: =B14+1 -> 9
B16: =B15+1 -> 10
B17: =B16+1 -> 11
B18: =B17+1 -> 12
B19: =B18+1 -> 13
B20: =B19+1 -> 14
B21: =B20+1 -> 15
B22: =B21+1 -> 16
B23: =B22+1 -> 17
... B49: =B48+1 -> 43

Sheet D_UsePersonFree
A1: =履历!A1 -> 種類 | G1: 项目名 | K1: =履历!K1 -> HotelPMS(Common含む) | AB1: 作成 | AE1: 小木 | AI1: 44609
A2: =履历!A2 -> DB設計書 | AB2: 更新 | AE2: 小木 | AI2: 44609
B4: テーブル名 | G4: D_UsePersonFree | S4: PARTITION構成 | AF4: 列名
B5: 説明 | G5: 利用者の自由集計(NoSQL式で管理しべき)
B6: No | D6: 項目名 | K6: 説明 | S6: 型 | X6: PK | Z6: 備考
B7: 1 | D7: ID | K7: 利用毎唯一な識別ID | S7: int | X7: PK
B8: =B7+1 -> 2 | D8: PersonID | K8: 利用者ID | S8: int | X8: PK
B9: =B8+1 -> 3 | D9: TypeID | K9: 種類 | S9: int | X9: PK | Z9: 自由集計項目の種類
B10: =B9+1 -> 4 | D10: DataValue | K10: 値 | S10: nvarchar(500)
B11: =B10+1 -> 5
B12: =B11+1 -> 6
B13: =B12+1 -> 7
B14: =B13+1 -> 8
B15: =B14+1 -> 9
B16: =B15+1 -> 10
B17: =B16+1 -> 11
B18: =B17+1 -> 12
B19: =B18+1 -> 13
B20: =B19+1 -> 14
B21: =B20+1 -> 15
B22: =B21+1 -> 16
... B49: =B48+1 -> 43

Sheet D_Receipt
A1: =履历!A1 -> 種類 | G1: 项目名 | K1: =履历!K1 -> HotelPMS(Common含む) | AB1: 作成 | AE1: 小木 | AI1: 44609
A2: =履历!A2 -> DB設計書 | AB2: 更新 | AE2: 小木 | AI2: 44609
B4: テーブル名 | G4: D_Receipt | S4: PARTITION構成 | AF4: 列名
B5: 説明 | G5: 領収書情報(全部外税か内税の運用)
B6: No | D6: 項目名 | K6: 説明 | S6: 型 | X6: PK | Z6: 備考
B7: 1 | D7: ID | K7: 利用毎唯一な識別ID | S7: int | X7: PK | Z7: 日付(yyyyMMdd) + 連番(7桁)
B8: =B7+1 -> 2 | D8: ReceiptID | K8: 利用内の領収書ID | S8: int | X8: PK | Z8: 連番[SeqReceiptID]
B9: =B8+1 -> 3 | D9: PersonID | K9: 利用者ID | S9: int | Z9: 当該領収書の代表宿泊者
B10: =B9+1 -> 4 | D10: ReceiptNo | K10: 領収書番号 | S10: int | Z10: 発行時の連番[SeqReceiptNo]
B11: =B10+1 -> 5 | D11: IssueStatus | K11: 発行状態 | S11: tinyint | Z11: 0.未発行 1.発行済
B12: =B11+1 -> 6 | D12: IssueDate | K12: 発行日時 | S12: datetime | Z12: 発行時のシステム日時
B13: =B12+1 -> 7 | D13: IssueCount | K13: 発行枚数 | S13: tinyint
B14: =B13+1 -> 8 | D14: IssuePageCount | K14: 領収書頁数 | S14: smallint
B15: =B14+1 -> 9 | D15: Name | K15: 宛名 | S15: nvarchar(50)
B16: =B15+1 -> 10 | D16: LanguageType | K16: 発行言語 | S16: tinyint | Z16: 0.日本語 1.英語
B17: =B16+1 -> 11 | D17: DivID | K17: 分割コード | S17: int
B18: =B17+1 -> 12 | D18: UseDate | K18: 利用日 | S18: date
B19: =B18+1 -> 13 | D19: CorpID | K19: 法人ID | S19: int
B20: =B19+1 -> 14 | D20: CustomerID | K20: 顧客ID | S20: int
B21: =B20+1 -> 15 | D21: PayKind | K21: 入金種別コード | S21: smallint
B22: =B21+1 -> 16 | D22: Person | K22: 利用人数 | S22: int
B23: =B22+1 -> 17 | D23: RoomID | K23: 部屋ID | S23: int | Z23: 領収書の代表部屋
B24: =B23+1 -> 18 | D24: VoidReason | K24: VOID理由 | S24: nvarchar(300)
B25: =B24+1 -> 19 | D25: TotalSummary | K25: 売上総額 | S25: decimal(19, 2) | Z25: 伝票からの合計金額(ALL IN)
B26: =B25+1 -> 20 | D26: PaySummary | K26: 入金総額 | S26: decimal(19, 2)
B27: =B26+1 -> 21 | D27: Summary | K27: 本体額 | S27: decimal(19, 2) | Z27: 本体額+サービス料-割引額+消費税+入湯税+宿泊税
B28: =B27+1 -> 22 | D28: ServiceSummary | K28: サービス料 | S28: decimal(19, 2)
B29: =B28+1 -> 23 | D29: TaxSummary | K29: 消費税 | S29: decimal(19, 2)
B30: =B29+1 -> 24 | D30: BathTaxSummary | K30: 入湯税 | S30: decimal(19, 2)
B31: =B30+1 -> 25 | D31: AccTaxSummary | K31: 宿泊税 | S31: decimal(19, 2)
B32: =B31+1 -> 26 | D32: DiscountSummary | K32: 割引き額 | S32: decimal(19, 2)
B33: =B32+1 -> 27
B34: =B33+1 -> 28
B35: =B34+1 -> 29
B36: =B35+1 -> 30
B37: =B36+1 -> 31
B38: =B37+1 -> 32
B39: =B38+1 -> 33
B40: =B39+1 -> 34
B41: =B40+1 -> 35
...

Sheet D_UseMemo
A1: =履历!A1 -> 種類 | G1: 项目名 | K1: =履历!K1 -> HotelPMS(Common含む) | AB1: 作成 | AE1: 小木 | AI1: 44609
A2: =履历!A2 -> DB設計書 | AB2: 更新 | AE2: 小木 | AI2: 44609
B4: テーブル名 | G4: D_UseMemo | S4: PARTITION構成 | AF4: 列名
B5: 説明 | G5: 利用メモ
B6: No | D6: 項目名 | K6: 説明 | S6: 型 | X6: PK | Z6: 備考
B7: 1 | D7: ID | K7: 利用毎唯一な識別ID | S7: int | X7: PK
B8: =B7+1 -> 2 | D8: DetailID | K8: 連泊部屋連番 | S8: int | X8: PK | Z8: 利用単位時、０と固定
B9: =B8+1 -> 3 | D9: TypeID | K9: メモ種類 | S9: tinyint | X9: PK | Z9: 朝食メモ、会場メモなど
B10: =B9+1 -> 4 | D10: Context | K10: 内容 | S10: nvarchar(1000)
B11: =B10+1 -> 5 | D11: Alert | K11: アラート通知 | S11: bit
B12: =B11+1 -> 6
B13: =B12+1 -> 7
B14: =B13+1 -> 8
B15: =B14+1 -> 9
B16: =B15+1 -> 10
B17: =B16+1 -> 11
B18: =B17+1 -> 12
B19: =B18+1 -> 13
B20: =B19+1 -> 14
B21: =B20+1 -> 15
B22: =B21+1 -> 16
B23: =B22+1 -> 17
... B49: =B48+1 -> 43

Sheet D_Rental
A1: =履历!A1 -> 種類 | G1: 项目名 | K1: =履历!K1 -> HotelPMS(Common含む) | AB1: 作成 | AE1: 小木 | AI1: 44609
A2: =履历!A2 -> DB設計書 | AB2: 更新 | AE2: 小木 | AI2: 44609
B4: テーブル名 | G4: D_Rental | S4: PARTITION構成 | AF4: 列名
B5: 説明 | G5: 備品レンタル
B6: No | D6: 項目名 | K6: 説明 | S6: 型 | X6: PK | Z6: 備考
B7: 1 | D7: ID | K7: 利用毎唯一な識別ID | S7: int | X7: PK
B8: =B7+1 -> 2 | D8: DetailID | K8: 連泊部屋連番 | S8: int | X8: PK
B9: =B8+1 -> 3 | D9: BeginDate | K9: 貸出開始日 | S9: date | X9: PK
B10: =B9+1 -> 4 | D10: FixturesID | K10: 備品ID | S10: nvarchar(50) | X10: PK
B11: =B10+1 -> 5 | D11: Amount | K11: 数量 | S11: smallint
B12: =B11+1 -> 6 | D12: ReturnPlanDate | K12: 回収予定日 | S12: date
B13: =B12+1 -> 7 | D13: ReturnStatus | K13: 回収状態 | S13: bit | Z13: 0.未 1.済
B14: =B13+1 -> 8 | D14: ReturnStuffID | K14: 回収担当者ID | S14: int | Z14: M_Stuff
B15: =B14+1 -> 9
B16: =B15+1 -> 10
B17: =B16+1 -> 11
B18: =B17+1 -> 12
B19: =B18+1 -> 13
B20: =B19+1 -> 14
B21: =B20+1 -> 15
B22: =B21+1 -> 16
B23: =B22+1 -> 17
B24: =B23+1 -> 18
B25: =B24+1 -> 19
B26: =B25+1 -> 20
... B49: =B48+1 -> 43

Sheet D_Arrange
A1: =履历!A1 -> 種類 | G1: 项目名 | K1: =履历!K1 -> HotelPMS(Common含む) | AB1: 作成 | AE1: 小木 | AI1: 44609
A2: =履历!A2 -> DB設計書 | AB2: 更新 | AE2: 小木 | AI2: 44609
B4: テーブル名 | G4: D_Arrange | S4: PARTITION構成 | AF4: 列名
B5: 説明 | G5: 手配(用途：手配科目伝票や手配貸出品を入力した場合、手配拡張情報として格納する)
B6: No | D6: 項目名 | K6: 説明 | S6: 型 | X6: PK | Z6: 備考
B7: 1 | D7: ID | K7: 利用毎唯一な識別ID | S7: int | X7: PK
B8: =B7+1 -> 2 | D8: DetailID | K8: 連泊部屋連番 | S8: int | X8: PK
B9: =B8+1 -> 3 | D9: UseDate | K9: 利用日 | S9: date | X9: PK
B10: =B9+1 -> 4 | D10: TraderID | K10: 手配業者 | S10: smallint
B11: =B10+1 -> 5 | D11: SubID | K11: 自動枝番 | S11: int | Z11: 同じ業者でも複数手配品可能
B12: =B11+1 -> 6 | D12: SaleID | K12: 売上伝票 | S12: int | Z12: 必ず一対一ですが、手配貸出品の場合、伝票がないかもしれない 伝票は帳票のため生成しますが、もし帳票データは別テーブルだったら、必要ないと考えられる
B13: =B12+1 -> 7 | D13: Status | K13: 手配状態 | S13: tinyint | Z13: 0.受付済 1.手配済
B14: =B13+1 -> 8 | D14: AcceptDate | K14: 受付日 | S14: date
B15: =B14+1 -> 9 | D15: AcceptStuffID | K15: 受付担当者 | S15: int
B16: =B15+1 -> 10 | D16: FinishDate | K16: 完了日 | S16: date | Z16: 手配済日
B17: =B16+1 -> 11 | D17: FinishStuffID | K17: 完了担当者 | S17: int
B18: =B17+1 -> 12 | D18: Amount | K18: 数量 | S18: smallint
B19: =B18+1 -> 13 | D19: FixturesID | K19: 備品ID | S19: nvarchar(50) | Z19: 手配貸出品⇒貸出、手配両方生成
B20: =B19+1 -> 14 | D20: Memo | K20: メモ | S20: nvarchar(500)
B21: =B20+1 -> 15
B22: =B21+1 -> 16
B23: =B22+1 -> 17
B24: =B23+1 -> 18
B25: =B24+1 -> 19
B26: =B25+1 -> 20
B27: =B26+1 -> 21
B28: =B27+1 -> 22
B29: =B28+1 -> 23
B30: =B29+1 -> 24
B31: =B30+1 -> 25
B32: =B31+1 -> 26
... B44: =B43+1 -> 38

Sheet H_Use
A1: =履历!A1 -> 種類 | G1: 项目名 | K1: =履历!K1 -> HotelPMS(Common含む) | AB1: 作成 | AE1: 小木 | AI1: 44609
A2: =履历!A2 -> DB設計書 | AB2: 更新 | AE2: 小木 | AI2: 44609
B4: テーブル名 | G4: H_Use | S4: PARTITION構成 | X4: IntPartitionSchema | AF4: 列名 | AH4: ID
B5: 説明 | G5: 利用情報履歴
B6: No | D6: 項目名 | K6: 説明 | S6: 型 | X6: PK | Z6: 備考
B7: 1 | D7: ID | K7: 利用毎唯一な識別ID | S7: int | X7: PK
B8: =B7+1 -> 2 | D8: SubID | K8: 履歴ID | S8: int | X8: AUTO | Z8: IDENTITY(1,1)
B9: =B8+1 -> 3 | D9: DetailID | K9: 代表連泊部屋ID | S9: int
B10: =B9+1 -> 4 | D10: ResvType | K10: 予約区分 | S10: tinyint | Z10: 利用明細の予約区分は全部同じ
B11: =B10+1 -> 5 | D11: GroupType | K11: 団体区分 | S11: tinyint | Z11: 0.個人 1.団体
B12: =B11+1 -> 6 | D12: GroupName | K12: 団体名称 | S12: nvarchar(50)
B13: =B12+1 -> 7 | D13: GroupKana | K13: 団体カナ | S13: nvarchar(50)
B14: =B13+1 -> 8 | D14: ReceiptPrtWay | K14: 領収書出力方式 | S14: tinyint | Z14: 0.連泊部屋単位 1.全利用単位 2.基本一括+付帯個別
B15: =B14+1 -> 9 | D15: PayWay | K15: 支払い方式 | S15: tinyint | Z15: 0.連泊部屋単位 1.全利用単位
B16: =B15+1 -> 10 | D16: CancelHotelDate | K16: キャンセル日 | S16: date
B17: =B16+1 -> 11 | D17: CancelDate | K17: キャンセル日時 | S17: datetime | Z17: 必ず全体的にキャンセル
B18: =B17+1 -> 12 | D18: CancelStuffID | K18: キャンセル担当者 | S18: int
B19: =B18+1 -> 13 | D19: CancelName | K19: キャンセル申込者 | S19: nvarchar(50)
B20: =B19+1 -> 14 | D20: CancelReason | K20: キャンセル理由 | S20: nvarchar(50)
B21: =B20+1 -> 15 | D21: CreateDate | K21: 作成日時 | S21: datetime
B22: =B21+1 -> 16 | D22: CreateStuffID | K22: 作成担当者 | S22: int
B23: =B22+1 -> 17 | D23: CreatePcName | K23: 作成端末 | S23: nvarchar(50)
B24: =B23+1 -> 18 | D24: CreateClass | K24: 作成機能名 | S24: nvarchar(50) | Z24: 例：予約登録、手間いらず連動など
B25: =B24+1 -> 19 | D25: UpdateDate | K25: 更新日時 | S25: datetime
B26: =B25+1 -> 20 | D26: UpdateStuffID | K26: 更新担当者 | S26: int
B27: =B26+1 -> 21 | D27: UpdatePcName | K27: 更新端末 | S27: nvarchar(50)
B28: =B27+1 -> 22 | D28: UpdateClass | K28: 更新機能名 | S28: nvarchar(50)
B29: =B28+1 -> 23 | D29: UpdateID | K29: 更新ID | S29: int | Z29: データ更新毎自動カウント（排他用など）
B30: =B29+1 -> 24
B31: =B30+1 -> 25
B32: =B31+1 -> 26
B33: =B32+1 -> 27
B34: =B33+1 -> 28
B35: =B34+1 -> 29
B36: =B35+1 -> 30
B37: =B36+1 -> 31
B38: =B37+1 -> 32
B39: =B38+1 -> 33
B40: =B39+1 -> 34
B41: =B40+1 -> 35
...

Sheet D_RoomLock
A1: =履历!A1 -> 種類 | G1: 项目名 | K1: =履历!K1 -> HotelPMS(Common含む) | AB1: 作成 | AE1: 小木 | AI1: 44609
A2: =履历!A2 -> DB設計書 | AB2: 更新 | AE2: 小木 | AI2: 44609
B4: テーブル名 | G4: D_RoomLock | S4: PARTITION構成 | AF4: 列名
B5: 説明 | G5: 部屋一時ロック情報
B6: No | D6: 項目名 | K6: 説明 | S6: 型 | X6: PK | Z6: 備考
B7: 1 | D7: UseDate | K7: 利用日 | S7: date | X7: PK
B8: =B7+1 -> 2 | D8: RoomTypeID | K8: 部屋タイプ | S8: smallint | X8: PK
B9: =B8+1 -> 3 | D9: RoomID | K9: 部屋ID | S9: smallint | X9: PK
B10: =B9+1 -> 4 | D10: Amount | K10: 数量 | S10: int | Z10: 日、タイプ毎集計、RoomID>0時、固定「1」
B11: =B10+1 -> 5 | D11: PcName | K11: 端末名 | S11: nvarchar(50)
B12: =B11+1 -> 6 | D12: Handle | K12: 画面のハンドル | S12: nvarchar(50) | Z12: Webの場合、GUIDになる
B13: =B12+1 -> 7
B14: =B13+1 -> 8
B15: =B14+1 -> 9
B16: =B15+1 -> 10
B17: =B16+1 -> 11
B18: =B17+1 -> 12
B19: =B18+1 -> 13
B20: =B19+1 -> 14
B21: =B20+1 -> 15
B22: =B21+1 -> 16
B23: =B22+1 -> 17
B24: =B23+1 -> 18
... B49: =B48+1 -> 43
