Workbook

Sheet 表紙
A12: ホテルPMS
A14: ＤＢ設計書
O17: 第 | Q17: =INDEX(履历!Q5:Q49,MATCH("",履历!Q5:Q49,-1)) -> 1.0 | W17: 版
A19: 43616

Sheet 履历
A1: 種類 | G1: システム | K1: HotelPMSDB | AB1: 作成 | AE1: 小木 | AI1: 43616
A2: DB設計書 | AB2: 更新 | AE2: 小木 | AI2: 44609
B4: 日期 | I4: 担当者 | Q4: バージョン | U4: 概要
B5: 43620 | I5: 小木 | Q5: 1.0 | U5: 新規(主旨：簡潔、英語表示)

Sheet 目次
A1: =履历!A1 -> 種類 | G1: 项目名 | K1: =履历!K1 -> HotelPMSDB | AB1: 作成 | AE1: =履历!AE1 -> 小木 | AI1: 44650
A2: =履历!A2 -> DB設計書 | AB2: 更新 | AE2: =履历!AE2 -> 小木 | AI2: 44650
B4: DB説明概要【※IO分離の設計】
B5: M_：マスタ(排他可能、ユーザーへ公開) S_：システム(非公開、導入時設定)
B8: No | D8: テーブル名 | J8: シノニム | O8: 説明 | V8: 種類 | Z8: 備考
B9: =1 -> 1 | D9: S_Config | J9: - | O9: システム設定 | V9: S
B10: =B9+1 -> 2 | D10: S_Option | J10: - | O10: 共通設定 | V10: S
B11: =B10+1 -> 3 | D11: S_Local | J11: - | O11: 端末、ユーザー設定 | V11: S
B12: =B11+1 -> 4 | D12: S_Class | J12: - | O12: 機能一覧 | V12: S
B13: =B12+1 -> 5 | D13: S_Hotel | J13: - | O13: ホテル情報 | V13: S
B14: =B13+1 -> 6 | D14: S_Menu | J14: - | O14: メニュー | V14: S
B15: =B14+1 -> 7 | D15: M_Output | J15: - | O15: 列設定 | V15: M
B16: =B15+1 -> 8 | D16: M_OutputItem | J16: - | O16: 列設定明細 | V16: M
B17: =B16+1 -> 9 | D17: M_RoomType | J17: - | O17: 部屋タイプ | V17: M
B18: =B17+1 -> 10 | D18: M_Room | J18: - | O18: 部屋 | V18: M
B19: =B18+1 -> 11 | D19: M_RoomStatus | J19: - | O19: 部屋状態 | V19: M
B20: =B19+1 -> 12 | D20: M_RoomAtt | J20: - | O20: 部屋属性 | V20: M
B21: =B20+1 -> 13 | D21: M_DiscountReason | J21: - | O21: 割引理由 | V21: M
... B25: =B24+1 -> 17 | D25: M_Building | J25: - | O25: 館情報 | V25: M
B26: =B25+1 -> 18 | D26: M_Fixtures | O26: 備品 | V26: M
B27: =B26+1 -> 19 | D27: M_Trader | O27: 手配業者 | V27: M
B28: =B27+1 -> 20
B29: =B28+1 -> 21
B30: =B29+1 -> 22
B31: =B30+1 -> 23
B32: =B31+1 -> 24
B33: =B32+1 -> 25
B34: =B33+1 -> 26
B35: =B34+1 -> 27
B36: =B35+1 -> 28
B37: =B36+1 -> 29
B38: =B37+1 -> 30
B39: =B38+1 -> 31
... B44: =B43+1 -> 36

Sheet Enum定数
B2: ■部屋タイプ種類(ERoomKind)
C3: 名称 | O3: 値 | R3: 備考
C4: Normal | O4: 0 | R4: 一般部屋
C5: Hall | O5: 1 | R5: 会場
C6: Sales | O6: 2 | R6: 売上部屋
C7: Virtual | O7: 3 | R7: 架空、プール部屋
B9: ■表示・非表示(EVisible)
C10: 名称 | O10: 値 | R10: 備考
C11: Hidden | O11: 0 | R11: 非表示
C12: Show | O12: 1 | R12: 表示
B14: ■清掃種類(EMaidType)
C15: 名称 | O15: 値 | R15: 備考
C16: Vacancy | O16: 0 | R16: 空室(清掃完了)
C17: Instruct | O17: 1 | R17: 清掃指示
C18: Check | O18: 2 | R18: 点検中
C19: Normal | O19: 3 | R19: 通常
B21: ■掛区分(ECreditType)
C22: 名称 | O22: 値 | R22: 備考
C23: None | O23: 0 | R23: なし
C24: Sale | O24: 1 | R24: 売掛
C25: Buy | O25: 2 | R25: 買掛
B27: ■込区分(EIOType)
C28: 名称 | O28: 値 | R28: 備考
C29: None | O29: 0 | R29: なし
C30: Out | O30: 1 | R30: 外税
C31: Include | O31: 2 | R31: 内税
B33: ■支払区分(EPayCondType)
C34: 名称 | O34: 値 | R34: 備考
C35: ThisMonth | O35: 0 | R35: 当月
C36: NextMonth | O36: 1 | R36: 翌月
C37: TwoMonthsLater | O37: 2 | R37: 翌々月
C38: ThreeMonthsLater | O38: 3 | R38: 3ヶ月後
B40: ■ネット属性(ENetType)
C41: 名称 | O41: 値 | R41: 備考
C42: None | O42: 0 | R42: なし
C43: Home | O43: 1 | R43: 自社
C44: Other | O44: 2 | R44: 他社
B46: ■貸出品種類(ERentalType)
C47: 名称 | O47: 値 | R47: 備考
C48: Rental | O48: 0 | R48: 貸出品
...

Sheet テンプレート
A1: =履历!A1 -> 種類 | G1: 项目名 | K1: =履历!K1 -> HotelPMSDB | AB1: 作成 | AE1: 小木 | AI1: 44609
A2: =履历!A2 -> DB設計書 | AB2: 更新 | AE2: 小木 | AI2: 44609
B4: テーブル名 | S4: PARTITION構成 | X4: myPartitionSchema | AF4: 列名 | AH4: ID
B5: 説明 | G5: 下記のデータ型しか使わない
B6: No | D6: 項目名 | K6: 説明 | S6: 型 | X6: PK | Z6: 備考
B7: 1 | D7: ID | K7: 自動識別ID例 | S7: int | X7: PK | Z7: Import、削除⇒新規を考慮の場合、AUTOを使用しない、CREATE SEQUENCE採番を進め
B8: =B7+1 -> 2 | D8: Name | K8: 名称 | S8: nvarchar(?)
B9: =B8+1 -> 3 | D9: Type1 | K9: 区分など0～255まで | S9: tinyint | Z9: 0～255
B10: =B9+1 -> 4 | D10: Type2 | K10: 2バイト数字 | S10: smallint | Z10: -32,768～32,767
B11: =B10+1 -> 5 | D11: Type3 | K11: 4バイト数字 | S11: int | Z11: -2,147,483,648～2,147,483,647
B12: =B11+1 -> 6 | D12: Type4 | K12: 8バイト数字 | S12: bigint
B13: =B12+1 -> 7 | D13: UseDate | K13: 年月日のみ | S13: int | Z13: yyyyMMdd
B14: =B13+1 -> 8 | D14: UpdateDate | K14: 更新日時 | S14: datetime | Z14: yyyy/MM/dd HH:mm:ss.fff
B15: =B14+1 -> 9 | D15: Flag | K15: 可否、フラグ | S15: bit | Z15: 0、1
B16: =B15+1 -> 10 | D16: Price | K16: 金額(9 Bytes) 標準 | S16: decimal(19, 2) | Z16: ※money=decimal(19, 4) 8byteですが、標準ではないので、使わない
B17: =B16+1 -> 11 | D17: EnName | K17: 英文字 | S17: varchar(?) | Z17: 絶対Asc文字の場合使用する
B18: =B17+1 -> 12 | D18: Data | K18: イメージなど | S18: varbinary(max) | Z18: ntext、text、imageを使用禁止
B19: =B18+1 -> 13 | D19: CinTime | K19: 時間 | S19: smallint | Z19: HHmm
B20: =B19+1 -> 14
B21: =B20+1 -> 15
B22: =B21+1 -> 16
B23: =B22+1 -> 17
B24: =B23+1 -> 18
B25: =B24+1 -> 19
B26: =B25+1 -> 20
B27: =B26+1 -> 21
B28: =B27+1 -> 22
B29: =B28+1 -> 23
B30: =B29+1 -> 24
B31: =B30+1 -> 25
... B49: =B48+1 -> 43

Sheet S_Config
A1: =履历!A1 -> 種類 | G1: 项目名 | K1: =履历!K1 -> HotelPMSDB | AB1: 作成 | AE1: 小木 | AI1: 44609
A2: =履历!A2 -> DB設計書 | AB2: 更新 | AE2: 小木 | AI2: 44609
B4: テーブル名 | G4: S_Config | S4: PARTITION構成 | AF4: 列名
B5: 説明 | G5: システム設定
B6: No | D6: 項目名 | K6: 説明 | S6: 型 | X6: PK | Z6: 備考
B7: 1 | D7: ID | K7: 設定ID | S7: int | X7: PK
B8: =B7+1 -> 2 | D8: Version | K8: バージョン情報 | S8: bigint | Z8: 例：1.1.0.1⇒1001000001(三桁単位)
B9: =B8+1 -> 3 | D9: HotelType | K9: ホテルカスタマイズ区分1 | S9: smallint | Z9: ホテルカスタマイズ区分の第一分類
B10: =B9+1 -> 4 | D10: HotelTypeSub | K10: ホテルカスタマイズ区分2 | S10: smallint | Z10: ホテルカスタマイズ区分の第二分類
B11: =B10+1 -> 5 | D11: HotelTypeSub2 | K11: ホテルカスタマイズ区分3 | S11: smallint | Z11: ホテルカスタマイズ区分の第三分類
B12: =B11+1 -> 6
B13: =B12+1 -> 7
B14: =B13+1 -> 8
B15: =B14+1 -> 9
B16: =B15+1 -> 10
B17: =B16+1 -> 11
B18: =B17+1 -> 12
B19: =B18+1 -> 13
B20: =B19+1 -> 14
B21: =B20+1 -> 15
B22: =B21+1 -> 16
B23: =B22+1 -> 17
... B49: =B48+1 -> 43

Sheet S_SyncConfig
A1: =履历!A1 -> 種類 | G1: 项目名 | K1: =履历!K1 -> HotelPMSDB | AB1: 作成 | AE1: 小木 | AI1: 44609
A2: =履历!A2 -> DB設計書 | AB2: 更新 | AE2: 小木 | AI2: 44609
B4: テーブル名 | G4: S_SyncConfig | S4: PARTITION構成 | AF4: 列名
B5: 説明 | G5: システム設定
B6: No | D6: 項目名 | K6: 説明 | S6: 型 | X6: PK | Z6: 備考
B7: 1 | D7: ID | K7: ID | S7: int | X7: PK | Z7: 0.利用更新 1.顧客更新
B8: =B7+1 -> 2 | D8: Name | K8: 機能名 | S8: nvarchar(50)
B9: =B8+1 -> 3 | D9: Seq | K9: 更新フラグ | S9: smallint | Z9: 値の変更でロックを掛ける
B10: =B9+1 -> 4 | D10: UpdateDate | K10: 更新日次 | S10: datetime
B11: =B10+1 -> 5
B12: =B11+1 -> 6
B13: =B12+1 -> 7
B14: =B13+1 -> 8
B15: =B14+1 -> 9
B16: =B15+1 -> 10
B17: =B16+1 -> 11
B18: =B17+1 -> 12
B19: =B18+1 -> 13
B20: =B19+1 -> 14
B21: =B20+1 -> 15
B22: =B21+1 -> 16
... B49: =B48+1 -> 43

Sheet S_Option
A1: =履历!A1 -> 種類 | G1: 项目名 | K1: =履历!K1 -> HotelPMSDB | AB1: 作成 | AE1: 小木 | AI1: 44609
A2: =履历!A2 -> DB設計書 | AB2: 更新 | AE2: 小木 | AI2: 44609
B4: テーブル名 | G4: S_Option | S4: PARTITION構成 | AF4: 列名
B5: 説明 | G5: 共通設定
B6: No | D6: 項目名 | K6: 説明 | S6: 型 | X6: PK | Z6: 備考
B7: 1 | D7: Type | K7: 種類 | S7: nvarchar(100) | X7: PK
B8: =B7+1 -> 2 | D8: Key | K8: キー | S8: nvarchar(100) | X8: PK | Z8: 必ずType +「_」+名称の形式
B9: =B8+1 -> 3 | D9: Value | K9: 値 | S9: nvarchar(500)
B10: =B9+1 -> 4
B11: =B10+1 -> 5
B12: =B11+1 -> 6
B13: =B12+1 -> 7
B14: =B13+1 -> 8
B15: =B14+1 -> 9
B16: =B15+1 -> 10
B17: =B16+1 -> 11
B18: =B17+1 -> 12
B19: =B18+1 -> 13
B20: =B19+1 -> 14
B21: =B20+1 -> 15
... B49: =B48+1 -> 43

Sheet S_Local
A1: =履历!A1 -> 種類 | G1: 项目名 | K1: =履历!K1 -> HotelPMSDB | AB1: 作成 | AE1: 小木 | AI1: 44609
A2: =履历!A2 -> DB設計書 | AB2: 更新 | AE2: 小木 | AI2: 44609
B4: テーブル名 | G4: S_Local | S4: PARTITION構成 | AF4: 列名
B5: 説明 | G5: 端末、ユーザー毎設定
B6: No | D6: 項目名 | K6: 説明 | S6: 型 | X6: PK | Z6: 備考
B7: 1 | D7: MachineName | K7: 端末名 | S7: nvarchar(100) | X7: PK
B8: =B7+1 -> 2 | D8: UserName | K8: ユーザー名 | S8: nvarchar(100) | X8: PK
B9: =B8+1 -> 3 | D9: Type | K9: 種類 | S9: nvarchar(100) | X9: PK
B10: =B9+1 -> 4 | D10: Key | K10: キー | S10: nvarchar(100) | X10: PK | Z10: 必ずType +「_」+名称の形式
B11: =B10+1 -> 5 | D11: Value | K11: 値 | S11: nvarchar(500)
B12: =B11+1 -> 6
B13: =B12+1 -> 7
B14: =B13+1 -> 8
B15: =B14+1 -> 9
B16: =B15+1 -> 10
B17: =B16+1 -> 11
B18: =B17+1 -> 12
B19: =B18+1 -> 13
B20: =B19+1 -> 14
B21: =B20+1 -> 15
B22: =B21+1 -> 16
B23: =B22+1 -> 17
... B49: =B48+1 -> 43

Sheet S_Class
A1: =履历!A1 -> 種類 | G1: 项目名 | K1: =履历!K1 -> HotelPMSDB | AB1: 作成 | AE1: 小木 | AI1: 44609
A2: =履历!A2 -> DB設計書 | AB2: 更新 | AE2: 小木 | AI2: 44609
B4: テーブル名 | G4: S_Class | S4: PARTITION構成 | AF4: 列名
B5: 説明 | G5: 機能一覧
B6: No | D6: 項目名 | K6: 説明 | S6: 型 | X6: PK | Z6: 備考
B7: 1 | D7: ID | K7: 識別番号 | S7: int | X7: PK
B8: =B7+1 -> 2 | D8: Name | K8: 名称 | S8: nvarchar(100)
B9: =B8+1 -> 3 | D9: UpdateDate | K9: 更新日時 | S9: datetime
B10: =B9+1 -> 4 | D10: UpdateLoginID | K10: 更新担当者 | S10: int | Z10: HotelCommon.M_Login
B11: =B10+1 -> 5 | D11: UpdatePcName | K11: 更新端末 | S11: nvarchar(50)
B12: =B11+1 -> 6 | D12: UpdateID | K12: 更新ID | S12: int | Z12: データ更新毎自動カウント（排他用など）
B13: =B12+1 -> 7
B14: =B13+1 -> 8
B15: =B14+1 -> 9
B16: =B15+1 -> 10
B17: =B16+1 -> 11
B18: =B17+1 -> 12
B19: =B18+1 -> 13
B20: =B19+1 -> 14
B21: =B20+1 -> 15
B22: =B21+1 -> 16
B23: =B22+1 -> 17
B24: =B23+1 -> 18
... B49: =B48+1 -> 43

Sheet S_Hotel
A1: =履历!A1 -> 種類 | G1: 项目名 | K1: =履历!K1 -> HotelPMSDB | AB1: 作成 | AE1: 小木 | AI1: 44609
A2: =履历!A2 -> DB設計書 | AB2: 更新 | AE2: 小木 | AI2: 44609
B4: テーブル名 | G4: S_Hotel | S4: PARTITION構成 | AF4: 列名
B5: 説明 | G5: ホテル情報
B6: No | D6: 項目名 | K6: 説明 | S6: 型 | X6: PK | Z6: 備考
B7: 1 | D7: ID | K7: ホテルID | S7: int | X7: PK | Z7: チェーン店時それぞれのID
B8: =B7+1 -> 2 | D8: Name | K8: 名称 | S8: nvarchar(50)
B9: =B8+1 -> 3 | D9: HotelDate | K9: ホテル日 | S9: date
B10: =B9+1 -> 4 | D10: RoomCount | K10: 部屋数 | S10: smallint
B11: =B10+1 -> 5 | D11: ZipCode | K11: 郵便番号 | S11: varchar(50) | Z11: M_Address
B12: =B11+1 -> 6 | D12: Prefecture | K12: 都道府県 | S12: nvarchar(20)
B13: =B12+1 -> 7 | D13: Address2 | K13: 都市 | S13: nvarchar(50)
B14: =B13+1 -> 8 | D14: Address3 | K14: 市町村 | S14: nvarchar(50)
B15: =B14+1 -> 9 | D15: Address4 | K15: 番地など | S15: nvarchar(1000)
B16: =B15+1 -> 10 | D16: Tel | K16: 電話番号 | S16: varchar(50)
B17: =B16+1 -> 11 | D17: Fax | K17: FAX | S17: varchar(50)
B18: =B17+1 -> 12 | D18: StartDate | K18: 期首月日 | S18: smallint | Z18: MMdd
B19: =B18+1 -> 13 | D19: CreateDate | K19: 導入日 | S19: date
B20: =B19+1 -> 14 | D20: SumDate | K20: 開始集計日 | S20: date
B21: =B20+1 -> 15 | D21: CloseDate | K21: 締め日 | S21: tinyint | Z21: 0:月末
B22: =B21+1 -> 16
B23: =B22+1 -> 17
B24: =B23+1 -> 18
B25: =B24+1 -> 19
B26: =B25+1 -> 20
B27: =B26+1 -> 21
B28: =B27+1 -> 22
B29: =B28+1 -> 23
B30: =B29+1 -> 24
B31: =B30+1 -> 25
B32: =B31+1 -> 26
B33: =B32+1 -> 27
... B49: =B48+1 -> 43

Sheet S_Menu
A1: =履历!A1 -> 種類 | G1: 项目名 | K1: =履历!K1 -> HotelPMSDB | AB1: 作成 | AE1: 小木 | AI1: 44609
A2: =履历!A2 -> DB設計書 | AB2: 更新 | AE2: 小木 | AI2: 44609
B4: テーブル名 | G4: S_Menu | S4: PARTITION構成 | AF4: 列名
B5: 説明 | G5: メニュー
B6: No | D6: 項目名 | K6: 説明 | S6: 型 | X6: PK | Z6: 備考
B7: 1 | D7: MachineName | K7: 端末名 | S7: nvarchar(50) | X7: PK
B8: =B7+1 -> 2 | D8: PageID | K8: 頁ID | S8: smallint | X8: PK
B9: =B8+1 -> 3 | D9: ID | K9: ID | S9: int | X9: PK
B10: =B9+1 -> 4 | D10: Name | K10: 名称 | S10: nvarchar(50)
B11: =B10+1 -> 5 | D11: Url | K11: Url | S11: nvarchar(50)
B12: =B11+1 -> 6
B13: =B12+1 -> 7
B14: =B13+1 -> 8
B15: =B14+1 -> 9
B16: =B15+1 -> 10
B17: =B16+1 -> 11
B18: =B17+1 -> 12
B19: =B18+1 -> 13
B20: =B19+1 -> 14
B21: =B20+1 -> 15
B22: =B21+1 -> 16
B23: =B22+1 -> 17
... B49: =B48+1 -> 43

Sheet M_Output
A1: =履历!A1 -> 種類 | G1: 项目名 | K1: =履历!K1 -> HotelPMSDB | AB1: 作成 | AE1: 小木 | AI1: 44609
A2: =履历!A2 -> DB設計書 | AB2: 更新 | AE2: 小木 | AI2: 44609
B4: テーブル名 | G4: M_Output | S4: PARTITION構成 | AF4: 列名
B5: 説明 | G5: 列設定(端末、ユーザー単位)
B6: No | D6: 項目名 | K6: 説明 | S6: 型 | X6: PK | Z6: 備考
B7: 1 | D7: MachineName | G7: M_Output | K7: 端末名 | S7: nvarchar(100) | X7: PK | Z7: Webの時、「localhost」
B8: =B7+1 -> 2 | D8: UserName | G8: M_Output | K8: ユーザー名 | S8: nvarchar(100) | X8: PK | Z8: Webの時、「Web」
B9: =B8+1 -> 3 | D9: ReportID | G9: M_Output | K9: 帳票ID | S9: int | X9: PK | Z9: S_Report
B10: =B9+1 -> 4 | D10: ID | G10: M_Output | K10: ID | S10: int | X10: PK
B11: =B10+1 -> 5 | D11: Name | G11: M_Output | K11: 名称 | S11: nvarchar(250)
B12: =B11+1 -> 6 | D12: FixedID | K12: 固定列 | S12: int | Z12: 0.なし >=1.固定の最大列ID
B13: =B12+1 -> 7 | D13: Sort | K13: ソート | S13: nvarchar(500) | Z13: 列名のカンマ区切り
B14: =B13+1 -> 8 | D14: Tag | K14: メモ | S14: nvarchar(1000)
B15: =B14+1 -> 9 | D15: UpdateDate | K15: 更新日時 | S15: datetime
B16: =B15+1 -> 10 | D16: UpdateLoginID | K16: 更新担当者 | S16: int | Z16: HotelCommon.M_Login
B17: =B16+1 -> 11 | D17: UpdatePcName | K17: 更新端末 | S17: nvarchar(50)
B18: =B17+1 -> 12 | D18: UpdateID | K18: 更新ID | S18: int | Z18: データ更新毎自動カウント（排他用など）
B19: =B18+1 -> 13
B20: =B19+1 -> 14
B21: =B20+1 -> 15
B22: =B21+1 -> 16
B23: =B22+1 -> 17
B24: =B23+1 -> 18
B25: =B24+1 -> 19
B26: =B25+1 -> 20
B27: =B26+1 -> 21
B28: =B27+1 -> 22
B29: =B28+1 -> 23
B30: =B29+1 -> 24
... B49: =B48+1 -> 43

Sheet M_OutputItem
A1: =履历!A1 -> 種類 | G1: 项目名 | K1: =履历!K1 -> HotelPMSDB | AB1: 作成 | AE1: 小木 | AI1: 44609
A2: =履历!A2 -> DB設計書 | AB2: 更新 | AE2: 小木 | AI2: 44609
B4: テーブル名 | G4: M_OutputItem | S4: PARTITION構成 | AF4: 列名
B5: 説明 | G5: 列設定(端末、ユーザー単位)
B6: No | D6: 項目名 | K6: 説明 | S6: 型 | X6: PK | Z6: 備考
B7: 1 | D7: MachineName | G7: M_Output | K7: 端末名 | S7: nvarchar(100) | X7: PK | Z7: Webの時、「localhost」
B8: =B7+1 -> 2 | D8: UserName | G8: M_Output | K8: ユーザー名 | S8: nvarchar(100) | X8: PK | Z8: Webの時、「Web」
B9: =B8+1 -> 3 | D9: ReportID | G9: M_Output | K9: 帳票ID | S9: int | X9: PK
B10: =B9+1 -> 4 | D10: OutputID | G10: M_Output | K10: 列設定ID | S10: int | X10: PK
B11: =B10+1 -> 5 | D11: ID | G11: M_Output | K11: 明細ID | S11: int | X11: PK
B12: =B11+1 -> 6 | D12: Name | G12: M_Output | K12: 名称 | S12: nvarchar(250)
B13: =B12+1 -> 7 | D13: Width | K13: 幅 | S13: float
B14: =B13+1 -> 8 | D14: Tag | K14: メモ | S14: nvarchar(1000)
B15: =B14+1 -> 9
B16: =B15+1 -> 10
B17: =B16+1 -> 11
B18: =B17+1 -> 12
B19: =B18+1 -> 13
B20: =B19+1 -> 14
B21: =B20+1 -> 15
B22: =B21+1 -> 16
B23: =B22+1 -> 17
B24: =B23+1 -> 18
B25: =B24+1 -> 19
B26: =B25+1 -> 20
... B49: =B48+1 -> 43

Sheet M_RoomType
A1: =履历!A1 -> 種類 | G1: 项目名 | K1: =履历!K1 -> HotelPMSDB | AB1: 作成 | AE1: 小木 | AI1: 44609
A2: =履历!A2 -> DB設計書 | AB2: 更新 | AE2: 小木 | AI2: 44609
B4: テーブル名 | G4: M_RoomType | S4: PARTITION構成 | AF4: 列名
B5: 説明 | G5: 部屋タイプ
B6: No | D6: 項目名 | K6: 説明 | S6: 型 | X6: PK | Z6: 備考
B7: 1 | D7: ID | K7: ID | S7: smallint | X7: PK
B8: =B7+1 -> 2 | D8: Name | K8: 名称 | S8: nvarchar(50)
B9: =B8+1 -> 3 | D9: ShortName | K9: 略称 | S9: nvarchar(10)
B10: =B9+1 -> 4 | D10: Kind | K10: 種類 | S10: tinyint
B11: =B10+1 -> 5 | D11: SortID | K11: 表示順 | S11: smallint
B12: =B11+1 -> 6 | D12: Visible | K12: 表示・非表示 | S12: bit
B13: =B12+1 -> 7 | D13: TypeListVisible | K13: 表示・非表示 | S13: bit
B14: =B13+1 -> 8 | D14: TypeListAlertCount | K14: 残室数の警告数 | S14: int
B15: =B14+1 -> 9 | D15: TypeListAlertColor | K15: 残室数の警告文字色 | S15: varchar(20)
B16: =B15+1 -> 10 | D16: WebType | K16: Webサイト側の部屋タイプ | S16: nvarchar(50)
B17: =B16+1 -> 11 | D17: SendRate | K17: 送信率 | S17: int
B18: =B17+1 -> 12 | D18: SendLimit | K18: 自社残る残室数 | S18: int
B19: =B18+1 -> 13 | D19: Memo | K19: 部屋タイプメモ | S19: nvarchar(500)
... B23: =B22+1 -> 17 | D23: UpdateID | K23: 更新ID | S23: int
B24: =B23+1 -> 18
B25: =B24+1 -> 19
B26: =B25+1 -> 20
B27: =B26+1 -> 21
B28: =B27+1 -> 22
B29: =B28+1 -> 23
B30: =B29+1 -> 24
B31: =B30+1 -> 25
B32: =B31+1 -> 26
B33: =B32+1 -> 27
B34: =B33+1 -> 28
B35: =B34+1 -> 29
... B49: =B48+1 -> 43

Sheet M_Room
A1: =履历!A1 -> 種類 | G1: 项目名 | K1: =履历!K1 -> HotelPMSDB | AB1: 作成 | AE1: 小木 | AI1: 44609
A2: =履历!A2 -> DB設計書 | AB2: 更新 | AE2: 小木 | AI2: 44609
B4: テーブル名 | G4: M_Room | S4: PARTITION構成 | AF4: 列名
B5: 説明 | G5: 部屋マスタ
B6: No | D6: 項目名 | K6: 説明 | S6: 型 | X6: PK | Z6: 備考
B7: 1 | D7: ID | K7: ID | S7: smallint | X7: PK
B8: =B7+1 -> 2 | D8: TypeID | K8: 部屋タイプID | S8: smallint
B9: =B8+1 -> 3 | D9: SortID | K9: 表示順 | S9: smallint
B10: =B9+1 -> 4 | D10: Floor | K10: フロア番号 | S10: tinyint
B11: =B10+1 -> 5 | D11: Name | K11: 名称 | S11: nvarchar(50)
B12: =B11+1 -> 6 | D12: Capacity | K12: 定員数 | S12: smallint
B13: =B12+1 -> 7 | D13: PBXID | K13: PBX番号 | S13: int
B14: =B13+1 -> 8 | D14: RfgID | K14: 冷蔵庫番号 | S14: int
B15: =B14+1 -> 9 | D15: PTVID | K15: VOD番号 | S15: int
B16: =B15+1 -> 10 | D16: Visible | K16: 表示・非表示 | S16: bit
B17: =B16+1 -> 11 | D17: OpeFlg | K17: 稼働フラグ | S17: bit
B18: =B17+1 -> 12 | D18: SignID | K18: 部屋記号ID | S18: smallint
B19: =B18+1 -> 13 | D19: GradeID | K19: 部屋グレード分類ID | S19: smallint
... B27: =B26+1 -> 21 | D27: UpdateID | K27: 更新ID | S27: int
B28: =B27+1 -> 22
B29: =B28+1 -> 23
B30: =B29+1 -> 24
B31: =B30+1 -> 25
B32: =B31+1 -> 26
B33: =B32+1 -> 27
B34: =B33+1 -> 28
B35: =B34+1 -> 29
B36: =B35+1 -> 30
B37: =B36+1 -> 31
B38: =B37+1 -> 32
B39: =B38+1 -> 33
... B49: =B48+1 -> 43

Sheet M_RoomStatus
A1: =履历!A1 -> 種類 | G1: 项目名 | K1: =履历!K1 -> HotelPMSDB | AB1: 作成 | AE1: 小木 | AI1: 44609
A2: =履历!A2 -> DB設計書 | AB2: 更新 | AE2: 小木 | AI2: 44609
B4: テーブル名 | G4: M_RoomStatus | S4: PARTITION構成 | AF4: 列名
B5: 説明 | G5: 部屋清掃状態
B6: No | D6: 項目名 | K6: 説明 | S6: 型 | X6: PK | Z6: 備考
B7: 1 | D7: ID | K7: 状態ID | S7: smallint | X7: PK
B8: =B7+1 -> 2 | D8: Name | K8: 名称 | S8: nvarchar(50)
B9: =B8+1 -> 3 | D9: ShortName | K9: 略称 | S9: nvarchar(10)
B10: =B9+1 -> 4 | D10: SortID | K10: 表示順 | S10: smallint
B11: =B10+1 -> 5 | D11: ForeColor | K11: 文字色 | S11: varchar(20)
B12: =B11+1 -> 6 | D12: BackColor | K12: 背景色 | S12: varchar(20)
B13: =B12+1 -> 7 | D13: MaidType | K13: 種類 | S13: tinyint | Z13: 0.空室(完了) 1.指示 2.点検 3.通常
B14: =B13+1 -> 8 | D14: Memo | K14: メモ | S14: nvarchar(500)
B15: =B14+1 -> 9 | D15: UpdateDate | K15: 更新日時 | S15: datetime
B16: =B15+1 -> 10 | D16: UpdateLoginID | K16: 更新担当者 | S16: int
B17: =B16+1 -> 11 | D17: UpdatePcName | K17: 更新端末 | S17: nvarchar(50)
B18: =B17+1 -> 12 | D18: UpdateID | K18: 更新ID | S18: int
B19: =B18+1 -> 13
B20: =B19+1 -> 14
B21: =B20+1 -> 15
B22: =B21+1 -> 16
B23: =B22+1 -> 17
B24: =B23+1 -> 18
B25: =B24+1 -> 19
B26: =B25+1 -> 20
B27: =B26+1 -> 21
B28: =B27+1 -> 22
B29: =B28+1 -> 23
B30: =B29+1 -> 24
... B49: =B48+1 -> 43

Sheet M_RoomAtt
A1: =履历!A1 -> 種類 | G1: 项目名 | K1: =履历!K1 -> HotelPMSDB | AB1: 作成 | AE1: 小木 | AI1: 44609
A2: =履历!A2 -> DB設計書 | AB2: 更新 | AE2: 小木 | AI2: 44609
B4: テーブル名 | G4: M_RoomAtt | S4: PARTITION構成 | AF4: 列名
B5: 説明 | G5: 部屋属性(RoomUseStatus>RoomStatus>利用のUseStatus)
B6: No | D6: 項目名 | K6: 説明 | S6: 型 | X6: PK | Z6: 備考
B7: 1 | D7: ID | K7: 部屋ID | S7: smallint | X7: PK
B8: =B7+1 -> 2 | D8: DisableIncoming | K8: 着信拒否 | S8: bit | Z8: 0.解除 1.設定
B9: =B8+1 -> 3 | D9: Lamp | K9: 利用表示ランプ | S9: bit | Z9: 0.消灯 1.点灯
B10: =B9+1 -> 4 | D10: SmorkType | K10: 煙草可否 | S10: tinyint | Z10: 0.指定なし 1.禁煙 2.喫煙
B11: =B10+1 -> 5 | D11: RoomStatus | K11: 清掃状態 | S11: tinyint | Z11: M_RoomStatus.ID
B12: =B11+1 -> 6 | D12: VodStatus | K12: VOD状態 | S12: tinyint
B13: =B12+1 -> 7 | D13: MsgStatus | K13: メッセージ有無 | S13: bit | Z13: 0.なし 1.あり
B14: =B13+1 -> 8 | D14: IOStatus | K14: 在室・不在 | S14: bit | Z14: 0.不在 1.在 (部屋鍵の連動、利用なくても)
B15: =B14+1 -> 9 | D15: LockerStatus | K15: ロッカー状態 | S15: tinyint | Z15: 0.未使用 1.使用中
B16: =B15+1 -> 10 | D16: RoomKeyType | K16: ルームキー種類 | S16: tinyint | Z16: 0.なし 1.美和ロック 2.リンキー
B17: =B16+1 -> 11 | D17: RoomkeyNo | K17: ルームロック番号 | S17: nvarchar(50) | Z17: 例：リンキー番号、ルームパスワード
B18: =B17+1 -> 12 | D18: RoomKeyBegin | K18: ルームキー開始時刻 | S18: datetime
B19: =B18+1 -> 13 | D19: RoomKeyEnd | K19: ルームキー終了時刻 | S19: datetime
B20: =B19+1 -> 14 | D20: RoomUseStatus | K20: 部屋利用状態 | S20: tinyint | Z20: 0.通常 1.故障 2.マネージャーブロック
B21: =B20+1 -> 15 | D21: UpdateDate | K21: 更新日時 | S21: datetime
B22: =B21+1 -> 16 | D22: UpdateLoginID | K22: 更新担当者 | S22: int
B23: =B22+1 -> 17 | D23: UpdatePcName | K23: 更新端末 | S23: nvarchar(50)
B24: =B23+1 -> 18 | D24: UpdateID | K24: 更新ID | S24: int
B25: =B24+1 -> 19
B26: =B25+1 -> 20
B27: =B26+1 -> 21
B28: =B27+1 -> 22
B29: =B28+1 -> 23
B30: =B29+1 -> 24
B31: =B30+1 -> 25
B32: =B31+1 -> 26
B33: =B32+1 -> 27
B34: =B33+1 -> 28
B35: =B34+1 -> 29
B36: =B35+1 -> 30
... B49: =B48+1 -> 43

Sheet M_DiscountReason
A1: =履历!A1 -> 種類 | G1: 项目名 | K1: =履历!K1 -> HotelPMSDB | AB1: 作成 | AE1: 小木 | AI1: 44609
A2: =履历!A2 -> DB設計書 | AB2: 更新 | AE2: 小木 | AI2: 44609
B4: テーブル名 | G4: M_DiscountReason | S4: PARTITION構成 | AF4: 列名
B5: 説明 | G5: 割引理由
B6: No | D6: 項目名 | K6: 説明 | S6: 型 | X6: PK | Z6: 備考
B7: 1 | D7: ID | K7: 識別ID | S7: int | X7: PK
B8: =B7+1 -> 2 | D8: Name | K8: 名称 | S8: nvarchar(50)
B9: =B8+1 -> 3 | D9: OpeFlg | K9: 稼働フラグ | S9: bit | Z9: 0.未稼働 1.稼働
B10: =B9+1 -> 4 | D10: UpdateDate | K10: 更新日時 | S10: datetime
B11: =B10+1 -> 5 | D11: UpdateLoginID | K11: 更新担当者 | S11: int
B12: =B11+1 -> 6 | D12: UpdatePcName | K12: 更新端末 | S12: nvarchar(50)
B13: =B12+1 -> 7 | D13: UpdateID | K13: 更新ID | S13: int
B14: =B13+1 -> 8
B15: =B14+1 -> 9
B16: =B15+1 -> 10
B17: =B16+1 -> 11
B18: =B17+1 -> 12
B19: =B18+1 -> 13
B20: =B19+1 -> 14
B21: =B20+1 -> 15
B22: =B21+1 -> 16
B23: =B22+1 -> 17
B24: =B23+1 -> 18
B25: =B24+1 -> 19
... B49: =B48+1 -> 43

Sheet M_Credit
A1: =履历!A1 -> 種類 | G1: 项目名 | K1: =履历!K1 -> HotelPMSDB | AB1: 作成 | AE1: 小木 | AI1: 44609
A2: =履历!A2 -> DB設計書 | AB2: 更新 | AE2: 小木 | AI2: 44609
B4: テーブル名 | G4: M_Credit | S4: PARTITION構成 | AF4: 列名
B5: 説明 | G5: クレジットカード会社
B6: No | D6: 項目名 | K6: 説明 | S6: 型 | X6: PK | Z6: 備考
B7: 1 | D7: ID | K7: ID | S7: int | X7: PK
B8: =B7+1 -> 2 | D8: Name | K8: 名称 | S8: nvarchar(50)
B9: =B8+1 -> 3 | D9: Kana | K9: カナ | S9: nvarchar(50)
B10: =B9+1 -> 4 | D10: TitleID | K10: 敬称区分 | S10: tinyint | Z10: M_HonorificTitle
B11: =B10+1 -> 5 | D11: CreditType | K11: 掛区分 | S11: tinyint
B12: =B11+1 -> 6 | D12: BillName | K12: 売掛名称 | S12: nvarchar(50)
B13: =B12+1 -> 7 | D13: BillKana | K13: 売掛カナ | S13: nvarchar(50)
B14: =B13+1 -> 8 | D14: BillZipCode | K14: 売掛郵便番号 | S14: varchar(50) | Z14: M_Address
B15: =B14+1 -> 9 | D15: BillPrefecture | K15: 売掛都道府県 | S15: nvarchar(20)
B16: =B15+1 -> 10 | D16: BillAddress2 | K16: 売掛都市 | S16: nvarchar(50)
B17: =B16+1 -> 11 | D17: BillAddress3 | K17: 売掛市町村 | S17: nvarchar(50)
B18: =B17+1 -> 12 | D18: BillAddress4 | K18: 売掛番地など | S18: nvarchar(1000)
B19: =B18+1 -> 13 | D19: CloseDate | K19: 締日 | S19: tinyint
B20: =B19+1 -> 14 | D20: PayCondType | K20: 支払区分 | S20: tinyint
B21: =B20+1 -> 15 | D21: PayCondDay | K21: 支払条件日 | S21: tinyint
B22: =B21+1 -> 16 | D22: RebateRate | K22: リベート率 | S22: decimal(5, 2)
B23: =B22+1 -> 17 | D23: UpdateDate | K23: 更新日時 | S23: datetime
B24: =B23+1 -> 18 | D24: UpdateLoginID | K24: 更新担当者 | S24: int
B25: =B24+1 -> 19 | D25: UpdatePcName | K25: 更新端末 | S25: nvarchar(50)
B26: =B25+1 -> 20 | D26: UpdateID | K26: 更新ID | S26: int
B27: =B26+1 -> 21
B28: =B27+1 -> 22
B29: =B28+1 -> 23
B30: =B29+1 -> 24
B31: =B30+1 -> 25
B32: =B31+1 -> 26
B33: =B32+1 -> 27
B34: =B33+1 -> 28
B35: =B34+1 -> 29
B36: =B35+1 -> 30
B37: =B36+1 -> 31
B38: =B37+1 -> 32
... B49: =B48+1 -> 43

Sheet M_Agent
A1: =履历!A1 -> 種類 | G1: 项目名 | K1: =履历!K1 -> HotelPMSDB | AB1: 作成 | AE1: 小木 | AI1: 44609
A2: =履历!A2 -> DB設計書 | AB2: 更新 | AE2: 小木 | AI2: 44609
B4: テーブル名 | G4: M_Agent | S4: PARTITION構成 | AF4: 列名
B5: 説明 | G5: エージェント
B6: No | D6: 項目名 | K6: 説明 | S6: 型 | X6: PK | Z6: 備考
B7: 1 | D7: ID | K7: ID | S7: int | X7: PK
B8: =B7+1 -> 2 | D8: Name | K8: 名称 | S8: nvarchar(50)
B9: =B8+1 -> 3 | D9: Kana | K9: カナ | S9: nvarchar(50)
B10: =B9+1 -> 4 | D10: TitleID | K10: 敬称区分 | S10: tinyint | Z10: M_HonorificTitle
B11: =B10+1 -> 5 | D11: ZipCode | K11: 郵便番号 | S11: varchar(50) | Z11: M_Address
B12: =B11+1 -> 6 | D12: Prefecture | K12: 都道府県 | S12: nvarchar(20)
B13: =B12+1 -> 7 | D13: Address2 | K13: 都市 | S13: nvarchar(50)
B14: =B13+1 -> 8 | D14: Address3 | K14: 市町村 | S14: nvarchar(50)
B15: =B14+1 -> 9 | D15: Address4 | K15: 番地など | S15: nvarchar(1000)
B16: =B15+1 -> 10 | D16: Tel | K16: 電話番号 | S16: varchar(50)
B17: =B16+1 -> 11 | D17: Fax | K17: FAX | S17: varchar(50)
B18: =B17+1 -> 12 | D18: NetType | K18: ネット属性 | S18: tinyint
B19: =B18+1 -> 13 | D19: CreditType | K19: 掛区分 | S19: tinyint
B20: =B19+1 -> 14 | D20: BillName | K20: 売掛名称 | S20: nvarchar(50)
B21: =B20+1 -> 15 | D21: BillKana | K21: 売掛カナ | S21: nvarchar(50)
B22: =B21+1 -> 16 | D22: BillZipCode | K22: 売掛郵便番号 | S22: varchar(50)
B23: =B22+1 -> 17 | D23: BillPrefecture | K23: 売掛都道府県 | S23: nvarchar(20)
... B34: =B33+1 -> 28 | D34: UpdateID | K34: 更新ID | S34: int
B35: =B34+1 -> 29
B36: =B35+1 -> 30
B37: =B36+1 -> 31
B38: =B37+1 -> 32
B39: =B38+1 -> 33
B40: =B39+1 -> 34
B41: =B40+1 -> 35
B42: =B41+1 -> 36
B43: =B42+1 -> 37
B44: =B43+1 -> 38
B45: =B44+1 -> 39
B46: =B45+1 -> 40
... B49: =B48+1 -> 43

Sheet M_AgentBranch
A1: =履历!A1 -> 種類 | G1: 项目名 | K1: =履历!K1 -> HotelPMSDB | AB1: 作成 | AE1: 小木 | AI1: 44609
A2: =履历!A2 -> DB設計書 | AB2: 更新 | AE2: 小木 | AI2: 44609
B4: テーブル名 | G4: M_AgentBranch | S4: PARTITION構成 | AF4: 列名
B5: 説明 | G5: エージェント支店
B6: No | D6: 項目名 | K6: 説明 | S6: 型 | X6: PK | Z6: 備考
B7: 1 | D7: AgentID | K7: エージェントID | S7: int | X7: PK | Z7: M_Agent.ID
B8: =B7+1 -> 2 | D8: ID | K8: 支店ID | S8: int | X8: PK
B9: =B8+1 -> 3 | D9: Name | K9: 名称 | S9: nvarchar(50)
B10: =B9+1 -> 4 | D10: Kana | K10: カナ | S10: nvarchar(50)
B11: =B10+1 -> 5 | D11: TitleID | K11: 敬称区分 | S11: tinyint | Z11: M_HonorificTitle
B12: =B11+1 -> 6 | D12: ZipCode | K12: 郵便番号 | S12: varchar(50) | Z12: M_Address
B13: =B12+1 -> 7 | D13: Prefecture | K13: 都道府県 | S13: nvarchar(20)
B14: =B13+1 -> 8 | D14: Address2 | K14: 都市 | S14: nvarchar(50)
B15: =B14+1 -> 9 | D15: Address3 | K15: 市町村 | S15: nvarchar(50)
B16: =B15+1 -> 10 | D16: Address4 | K16: 番地など | S16: nvarchar(1000)
B17: =B16+1 -> 11 | D17: Tel | K17: 電話番号 | S17: varchar(50)
B18: =B17+1 -> 12 | D18: Fax | K18: FAX | S18: varchar(50)
B19: =B18+1 -> 13 | D19: NetType | K19: ネット属性 | S19: tinyint
B20: =B19+1 -> 14 | D20: ChargeRate | K20: チャージ率 | S20: decimal(5, 2)
B21: =B20+1 -> 15 | D21: PointFlg | K21: ポイントフラグ | S21: bit
B22: =B21+1 -> 16 | D22: Memo | K22: メモ | S22: nvarchar(1000)
B23: =B22+1 -> 17 | D23: UpdateDate | K23: 更新日時 | S23: datetime
B24: =B23+1 -> 18 | D24: UpdateLoginID | K24: 更新担当者 | S24: int
... B26: =B25+1 -> 20 | D26: UpdateID | K26: 更新ID | S26: int
B27: =B26+1 -> 21
B28: =B27+1 -> 22
B29: =B28+1 -> 23
B30: =B29+1 -> 24
B31: =B30+1 -> 25
B32: =B31+1 -> 26
B33: =B32+1 -> 27
B34: =B33+1 -> 28
B35: =B34+1 -> 29
B36: =B35+1 -> 30
B37: =B36+1 -> 31
B38: =B37+1 -> 32
... B49: =B48+1 -> 43

Sheet M_Building
A1: =履历!A1 -> 種類 | G1: 项目名 | K1: =履历!K1 -> HotelPMSDB | AB1: 作成 | AE1: 小木 | AI1: 44609
A2: =履历!A2 -> DB設計書 | AB2: 更新 | AE2: 小木 | AI2: 44609
B4: テーブル名 | G4: M_Building | S4: PARTITION構成 | AF4: 列名
B5: 説明 | G5: 館情報(ホテル内建物階層管理)
B6: No | D6: 項目名 | K6: 説明 | S6: 型 | X6: PK | Z6: 備考
B7: 1 | D7: ID | K7: 館番号 | S7: int | X7: PK
B8: =B7+1 -> 2 | D8: Name | K8: 名称 | S8: nvarchar(50)
B9: =B8+1 -> 3 | D9: ShortName | K9: 略称 | S9: nvarchar(10)
B10: =B9+1 -> 4 | D10: ZipCode | K10: 郵便番号 | S10: varchar(50) | Z10: M_Address
B11: =B10+1 -> 5 | D11: Prefecture | K11: 都道府県 | S11: nvarchar(20)
B12: =B11+1 -> 6 | D12: Address2 | K12: 都市 | S12: nvarchar(50)
B13: =B12+1 -> 7 | D13: Address3 | K13: 市町村 | S13: nvarchar(50)
B14: =B13+1 -> 8 | D14: Address4 | K14: 番地など | S14: nvarchar(1000)
B15: =B14+1 -> 9 | D15: Tel | K15: 電話番号 | S15: varchar(50)
B16: =B15+1 -> 10 | D16: Fax | K16: FAX | S16: varchar(50)
B17: =B16+1 -> 11 | D17: UpdateDate | K17: 更新日時 | S17: datetime
B18: =B17+1 -> 12 | D18: UpdateLoginID | K18: 更新担当者 | S18: int
B19: =B18+1 -> 13 | D19: UpdatePcName | K19: 更新端末 | S19: nvarchar(50)
B20: =B19+1 -> 14 | D20: UpdateID | K20: 更新ID | S20: int
B21: =B20+1 -> 15
B22: =B21+1 -> 16
B23: =B22+1 -> 17
B24: =B23+1 -> 18
B25: =B24+1 -> 19
B26: =B25+1 -> 20
B27: =B26+1 -> 21
B28: =B27+1 -> 22
B29: =B28+1 -> 23
B30: =B29+1 -> 24
B31: =B30+1 -> 25
B32: =B31+1 -> 26
... B49: =B48+1 -> 43

Sheet M_Fixtures
A1: =履历!A1 -> 種類 | G1: 项目名 | K1: =履历!K1 -> HotelPMSDB | AB1: 作成 | AE1: 小木 | AI1: 44609
A2: =履历!A2 -> DB設計書 | AB2: 更新 | AE2: 小木 | AI2: 44609
B4: テーブル名 | G4: M_Fixtures | S4: PARTITION構成 | AF4: 列名
B5: 説明 | G5: 備品
B6: No | D6: 項目名 | K6: 説明 | S6: 型 | X6: PK | Z6: 備考
B7: 1 | D7: ID | K7: 備品コード | S7: nvarchar(50) | X7: PK
B8: =B7+1 -> 2 | D8: StartDate | K8: 開始日 | S8: int | X8: PK
B9: =B8+1 -> 3 | D9: ShortName | K9: 略称 | S9: nvarchar(6)
B10: =B9+1 -> 4 | D10: Name | K10: 名称 | S10: nvarchar(50)
B11: =B10+1 -> 5 | D11: Amount | K11: 数量 | S11: smallint
B12: =B11+1 -> 6 | D12: Price | K12: 単価 | S12: decimal(19, 2)
B13: =B12+1 -> 7 | D13: ItemID | K13: 科目ID | S13: nvarchar(50) | Z13: M_Item.ID
B14: =B13+1 -> 8 | D14: RentalType | K14: レンタルタイプ | S14: tinyint | Z14: 0:貸出品 1:手配貸出品
B15: =B14+1 -> 9 | D15: UpdateDate | K15: 更新日時 | S15: datetime
B16: =B15+1 -> 10 | D16: UpdateLoginID | K16: 更新担当者 | S16: int
B17: =B16+1 -> 11 | D17: UpdatePcName | K17: 更新端末 | S17: nvarchar(50)
B18: =B17+1 -> 12 | D18: UpdateID | K18: 更新ID | S18: int
B19: =B18+1 -> 13
B20: =B19+1 -> 14
B21: =B20+1 -> 15
B22: =B21+1 -> 16
B23: =B22+1 -> 17
B24: =B23+1 -> 18
B25: =B24+1 -> 19
B26: =B25+1 -> 20
B27: =B26+1 -> 21
B28: =B27+1 -> 22
B29: =B28+1 -> 23
B30: =B29+1 -> 24
... B49: =B48+1 -> 43

Sheet M_Trader
A1: =履历!A1 -> 種類 | G1: 项目名 | K1: =履历!K1 -> HotelPMSDB | AB1: 作成 | AE1: 小木 | AI1: 44609
A2: =履历!A2 -> DB設計書 | AB2: 更新 | AE2: 小木 | AI2: 44609
B4: テーブル名 | G4: M_Trader | S4: PARTITION構成 | AF4: 列名
B5: 説明 | G5: 手配業者
B6: No | D6: 項目名 | K6: 説明 | S6: 型 | X6: PK | Z6: 備考
B7: 1 | D7: ID | K7: 手配業者ID | S7: int | X7: PK
B8: =B7+1 -> 2 | D8: Name | K8: 名称 | S8: nvarchar(50)
B9: =B8+1 -> 3 | D9: Kana | K9: カナ | S9: nvarchar(50)
B10: =B9+1 -> 4 | D10: TitleID | K10: 敬称区分 | S10: tinyint | Z10: M_HonorificTitle
B11: =B10+1 -> 5 | D11: ZipCode | K11: 郵便番号 | S11: varchar(50) | Z11: M_Address
B12: =B11+1 -> 6 | D12: Prefecture | K12: 都道府県 | S12: nvarchar(20)
B13: =B12+1 -> 7 | D13: Address2 | K13: 都市 | S13: nvarchar(50)
B14: =B13+1 -> 8 | D14: Address3 | K14: 市町村 | S14: nvarchar(50)
B15: =B14+1 -> 9 | D15: Address4 | K15: 番地など | S15: nvarchar(1000)
B16: =B15+1 -> 10 | D16: Tel | K16: 電話番号 | S16: varchar(50)
B17: =B16+1 -> 11 | D17: Fax | K17: FAX | S17: varchar(50)
B18: =B17+1 -> 12 | D18: CloseDate | K18: 締日 | S18: tinyint
B19: =B18+1 -> 13 | D19: PayCondType | K19: 支払区分 | S19: tinyint
B20: =B19+1 -> 14 | D20: PayCondDay | K20: 支払条件日 | S20: tinyint
B21: =B20+1 -> 15 | D21: Memo | K21: メモ | S21: nvarchar(1000)
B22: =B21+1 -> 16 | D22: UpdateDate | K22: 更新日時 | S22: datetime
B23: =B22+1 -> 17 | D23: UpdateLoginID | K23: 更新担当者 | S23: int
... B25: =B24+1 -> 19 | D25: UpdateID | K25: 更新ID | S25: int
B26: =B25+1 -> 20
B27: =B26+1 -> 21
B28: =B27+1 -> 22
B29: =B28+1 -> 23
B30: =B29+1 -> 24
B31: =B30+1 -> 25
B32: =B31+1 -> 26
B33: =B32+1 -> 27
B34: =B33+1 -> 28
B35: =B34+1 -> 29
B36: =B35+1 -> 30
B37: =B36+1 -> 31
... B49: =B48+1 -> 43

Sheet M_Item
A1: =履历!A1 -> 種類 | G1: 项目名 | K1: =履历!K1 -> HotelPMSDB | AB1: 作成 | AE1: 小木 | AI1: 44609
A2: =履历!A2 -> DB設計書 | AB2: 更新 | AE2: 小木 | AI2: 44609
B4: テーブル名 | G4: M_Item | S4: PARTITION構成 | AF4: 列名
B5: 説明 | G5: 売上科目マスタ
B6: No | D6: 項目名 | K6: 説明 | S6: 型 | X6: PK | Z6: 備考
B7: 1 | D7: ID | K7: 科目ID | S7: nvarchar(50) | X7: PK
B8: =B7+1 -> 2 | D8: Name | K8: 科目名称 | S8: nvarchar(50)
B9: =B8+1 -> 3 | D9: EnName | K9: 英語名 | S9: nvarchar(50)
B10: =B9+1 -> 4 | D10: Name2 | K10: その他言語 | S10: nvarchar(50)
B11: =B10+1 -> 5 | D11: ReceiptName | K11: 領収書名称 | S11: nvarchar(50)
B12: =B11+1 -> 6 | D12: RoomTypeID | K12: 部屋タイプID | S12: smallint | Z12: M_RoomType
B13: =B12+1 -> 7 | D13: PersonCount | K13: 人数 | S13: smallint
B14: =B13+1 -> 8 | D14: Price | K14: 単価 | S14: decimal(19, 2)
B15: =B14+1 -> 9 | D15: DiscountRate | K15: 割引率 | S15: decimal(5, 2)
B16: =B15+1 -> 10 | D16: DiscountSummary | K16: 割引額 | S16: decimal(19, 2)
B17: =B16+1 -> 11 | D17: DiscountID | K17: 割引理由 | S17: int
B18: =B17+1 -> 12 | D18: ServiceIOType | K18: サービス料区分 | S18: tinyint
B19: =B18+1 -> 13 | D19: ServiceRate | K19: サービス率 | S19: decimal(5, 2)
B20: =B19+1 -> 14 | D20: TaxType | K20: 消費税種類 | S20: tinyint | Z20: 0.消費税 1.軽減税
B21: =B20+1 -> 15 | D21: TaxIOType | K21: 消費税区分 | S21: tinyint
B22: =B21+1 -> 16 | D22: BathTaxIOType | K22: 入湯税区分 | S22: tinyint
B23: =B22+1 -> 17 | D23: AccTaxIOType | K23: 宿泊税区分 | S23: tinyint | Z23: Accommodation Tax
B24: =B23+1 -> 18 | D24: SaleSectionID | K24: 売上部門ID | S24: smallint
B25: =B24+1 -> 19 | D25: SumSectionID | K25: 集計部門ID | S25: smallint
B26: =B25+1 -> 20 | D26: Kind | K26: 科目種別 | S26: tinyint | Z26: ※用定義
B27: =B26+1 -> 21 | D27: NextDay | K27: 翌日計上フラグ | S27: bit | Z27: 0.当日 1.翌日(Next day accounting)
B28: =B27+1 -> 22 | D28: AgentID | K28: エージェントID | S28: int
B29: =B28+1 -> 23 | D29: AgentBranchID | K29: 支店ID | S29: int
B30: =B29+1 -> 24 | D30: PointFlg | K30: ポイント計上対象 | S30: bit | Z30: 1.対象
B31: =B30+1 -> 25 | D31: PointInTax | K31: ポイント計上税込区分 | S31: bit | Z31: 0.税抜 1.税込
B32: =B31+1 -> 26 | D32: PointRate | K32: ポイント計上係数 | S32: decimal(4, 1) | Z32: ポイント = 対象額×計上係数%
B33: =B32+1 -> 27 | D33: PointPrice | K33: ポイント計上単価 | S33: int | Z33: ポイント = 対象額/計上単価
B34: =B33+1 -> 28 | D34: PointSumType | K34: ポイント計上方式 | S34: tinyint | Z34: 0.係数 1.単価
B35: =B34+1 -> 29 | D35: Point | K35: 調整ポイント | S35: int | Z35: ポイント = 計上ポイント + 調整ポイント
B36: =B35+1 -> 30 | D36: DayUse | K36: 日帰フラグ | S36: bit | Z36: 0.宿泊 1.日帰り
B37: =B36+1 -> 31 | D37: ReceiptPrtType | K37: 領収書印字区分 | S37: tinyint | Z37: 0.印字しない 1.印字 2.印字済
B38: =B37+1 -> 32 | D38: LongStayFlg | K38: 連泊引継フラグ | S38: bit
B39: =B38+1 -> 33 | D39: RentalType | K39: 貸出手配区分 | S39: tinyint
B40: =B39+1 -> 34 | D40: TraderID | K40: 手配業者 | S40: int | Z40: M_Trader
B41: =B40+1 -> 35 | D41: TraderMemo | K41: 手配メモ | S41: nvarchar(100)
...

Sheet M_PayItem
A1: =履历!A1 -> 種類 | G1: 项目名 | K1: =履历!K1 -> HotelPMSDB | AB1: 作成 | AE1: 小木 | AI1: 44609
A2: =履历!A2 -> DB設計書 | AB2: 更新 | AE2: 小木 | AI2: 44609
B4: テーブル名 | G4: M_PayItem | S4: PARTITION構成 | AF4: 列名
B5: 説明 | G5: 入金科目
B6: No | D6: 項目名 | K6: 説明 | S6: 型 | X6: PK | Z6: 備考
B7: 1 | D7: ID | K7: 科目ID | S7: nvarchar(50) | X7: PK
B8: =B7+1 -> 2 | D8: Name | K8: 科目名称 | S8: nvarchar(50)
B9: =B8+1 -> 3 | D9: EnName | K9: 英語名 | S9: nvarchar(50)
B10: =B9+1 -> 4 | D10: Name2 | K10: その他言語 | S10: nvarchar(50)
B11: =B10+1 -> 5 | D11: ReceiptName | K11: 領収書名称 | S11: nvarchar(50)
B12: =B11+1 -> 6 | D12: Kind | K12: 科目種別 | S12: tinyint | Z12: ※用定義
B13: =B12+1 -> 7 | D13: UpdateDate | K13: 更新日時 | S13: datetime
B14: =B13+1 -> 8 | D14: UpdateLoginID | K14: 更新担当者 | S14: int
B15: =B14+1 -> 9 | D15: UpdatePcName | K15: 更新端末 | S15: nvarchar(50)
B16: =B15+1 -> 10 | D16: UpdateID | K16: 更新ID | S16: int
B17: =B16+1 -> 11
B18: =B17+1 -> 12
B19: =B18+1 -> 13
B20: =B19+1 -> 14
B21: =B20+1 -> 15
B22: =B21+1 -> 16
B23: =B22+1 -> 17
B24: =B23+1 -> 18
B25: =B24+1 -> 19
B26: =B25+1 -> 20
B27: =B26+1 -> 21
B28: =B27+1 -> 22
... B49: =B48+1 -> 43

Sheet M_FreeType
A1: =履历!A1 -> 種類 | G1: 项目名 | K1: =履历!K1 -> HotelPMSDB | AB1: 作成 | AE1: 小木 | AI1: 44609
A2: =履历!A2 -> DB設計書 | AB2: 更新 | AE2: 小木 | AI2: 44609
B4: テーブル名 | G4: M_FreeType | S4: PARTITION構成 | AF4: 列名
B5: 説明 | G5: 自由項目の種類
B6: No | D6: 項目名 | K6: 説明 | S6: 型 | X6: PK | Z6: 備考 | AR6: // 種別データタイプ定義
B7: 1 | D7: ID | K7: 自動識別ID例 | S7: int | X7: PK | AR7: define('KIND_DATA_TYPE_SEPARATOR', 1); // セパレーター
B8: =B7+1 -> 2 | D8: Name | K8: 名称 | S8: nvarchar(50) | AR8: define('KIND_DATA_TYPE_TEXT', 2); // テキスト
B9: =B8+1 -> 3 | D9: GroupID | K9: 項目のグループID | S9: smallint | Z9: グループ化可能 | AR9: define('KIND_DATA_TYPE_NUMERIC', 3); // 数値
B10: =B9+1 -> 4 | D10: SortID | K10: 表示時の順番 | S10: int | Z10: 表示再調整用 | AR10: define('KIND_DATA_TYPE_DATETIME', 4); // 日時
B11: =B10+1 -> 5 | D11: DataType | K11: 入力データ型 | S11: tinyint | Z11: Enumで定義する | AR11: define('KIND_DATA_TYPE_SELECT', 5); // 選択
B12: =B11+1 -> 6 | D12: Required | K12: 入力必須 | S12: bit | AR12: define('KIND_DATA_TYPE_SELECT_EDIT', 6); // 選択(編集可)
B13: =B12+1 -> 7 | D13: DefaultValue | K13: 初期値 | S13: nvarchar(50) | AR13: define('KIND_DATA_TYPE_CHECK_LIST', 7); // チェックリスト
B14: =B13+1 -> 8 | D14: MinValue | K14: 最小値 | S14: nvarchar(50) | AR14: define('KIND_DATA_TYPE_URL', 8); // URL
B15: =B14+1 -> 9 | D15: MaxValue | K15: 最大値 | S15: nvarchar(50) | AR15: define('KIND_DATA_TYPE_ADDRESS', 9); // 住所
B16: =B15+1 -> 10 | D16: Unit | K16: 単位 | S16: nvarchar(10) | AR16: define('KIND_DATA_TYPE_ADDRESS_DIV', 10); // 住所(分割入力)
B17: =B16+1 -> 11 | D17: Len | K17: 文字サイズ | S17: int | AR17: define('KIND_DATA_TYPE_POST', 11); // 郵便番号
B18: =B17+1 -> 12 | D18: FormatText | K18: 表示形式 | S18: nvarchar(50) | Z18: 日付、時間、金額など(c#標準) | AR18: define('KIND_DATA_TYPE_LAT_LON', 12); // 緯度・経度
B19: =B18+1 -> 13 | D19: CopyType | K19: 引継ぎ種類 | S19: tinyint | Z19: 0.しない 1.する | AR19: define('KIND_DATA_TYPE_PHONE_FAX', 13); // 電話番号・FAX
B20: =B19+1 -> 14 | AR20: define('KIND_DATA_TYPE_MAIL', 14); // メールアドレス
B21: =B20+1 -> 15 | AR21: define('KIND_DATA_TYPE_IMAGE_FILE', 15); // イメージファイル
B22: =B21+1 -> 16 | AR22: define('KIND_DATA_TYPE_MULTI_FILE', 16); // マルチファイル
B23: =B22+1 -> 17 | AR23: define('KIND_DATA_TYPE_VOICE', 17); // 音声
B24: =B23+1 -> 18 | AR24: define('KIND_DATA_TYPE_MOVIE', 18); // 動画
B25: =B24+1 -> 19 | AR25: define('KIND_DATA_TYPE_TIME', 19); // 時分
B26: =B25+1 -> 20 | AR26: define('KIND_DATA_TYPE_AGGREGATE_ITEM_DATA', 20); // 集計（アイテムデータ）
B27: =B26+1 -> 21 | AR27: define('KIND_DATA_TYPE_AGGREGATE_ITEM_COUNT', 21); // 集計（アイテム数）
B28: =B27+1 -> 22 | AR28: define('KIND_DATA_TYPE_SIGN', 22); // 手書きサイン
B29: =B28+1 -> 23
B30: =B29+1 -> 24 | AR30: // 日時型の定義
B31: =B30+1 -> 25 | AR31: define('KIND_DATA_TYPE_DATE_AND_TIME', 0); // 日時
B32: =B31+1 -> 26 | AR32: define('KIND_DATA_TYPE_DATE', 1); // 年月日
B33: =B32+1 -> 27 | AR33: define('KIND_DATA_TYPE_PERIOD', 2); // 年月
B34: =B33+1 -> 28
B35: =B34+1 -> 29 | AR35: // テキストの入力制限の型定義
B36: =B35+1 -> 30 | AR36: define('KIND_DATA_TEXT_TYPE_NONE', 0); // 未設定
B37: =B36+1 -> 31 | AR37: define('KIND_DATA_TEXT_TYPE_HIRA', 1); // ひらがな
B38: =B37+1 -> 32 | AR38: define('KIND_DATA_TEXT_TYPE_FULL_KATA', 2); // 全角カタカナ
B39: =B38+1 -> 33 | AR39: define('KIND_DATA_TEXT_TYPE_HALF_KATA', 3); // 半角カタカナ
B40: =B39+1 -> 34 | AR40: define('KIND_DATA_TEXT_TYPE_FULL_ALNUM', 4);// 全角英数字
B41: =B40+1 -> 35 | AR41: define('KIND_DATA_TEXT_TYPE_HALF_ALNUM', 5);// 半角英数字
...
