Workbook

Sheet 表紙
A12: ホテルPMS
A14: ＤＢ設計書
O17: 第 | Q17: =INDEX(履历!Q5:Q49,MATCH("",履历!Q5:Q49,-1)) -> 1.0 | W17: 版
A19: 43616

Sheet 履历
A1: 種類 | G1: システム | K1: HotelCommon(共通DB) | AB1: 作成 | AE1: 小木 | AI1: 43616
A2: DB設計書 | AB2: 更新 | AE2: 小木 | AI2: 44609
B4: 日期 | I4: 担当者 | Q4: バージョン | U4: 概要
B5: 43620 | I5: 小木 | Q5: 1.0 | U5: 新規(主旨：簡潔、英語表示)

Sheet 目次
A1: =履历!A1 -> 種類 | G1: 项目名 | K1: =履历!K1 -> HotelCommon(共通DB) | AB1: 作成 | AE1: =履历!AE1 -> 小木 | AI1: 44650
A2: =履历!A2 -> DB設計書 | AB2: 更新 | AE2: =履历!AE2 -> 小木 | AI2: 44650
B4: DB説明概要【※IO分離の設計】
B5: 顧客データ、チェーン店共通用マスタなどを配置する チェーン店の場合、単独のサーバーへ配置するため、PG中単独のDB接続、施設業務DBのテーブルと結合しないように注意が必要です。 そのため、単一施設運用でも、PG中の一致性を維持するため、単独DB接続、NO結合の書き方になる
B8: No | D8: テーブル名 | J8: シノニム | O8: 説明 | V8: 種類 | Z8: 備考
B9: =1 -> 1 | D9: S_Report | J9: - | O9: 帳票マスタ
B10: =B9+1 -> 2 | D10: S_ReportCol | J10: - | O10: 帳票列一覧
B11: =B10+1 -> 3 | D11: M_LoginGroup | J11: - | O11: ログイングループマスタ
B12: =B11+1 -> 4 | D12: M_Login | J12: - | O12: ログイン情報
B13: =B12+1 -> 5 | D13: M_Character | J13: - | O13: 人物タイプ
B14: =B13+1 -> 6 | D14: M_Rank | J14: - | O14: 顧客ランク
B15: =B14+1 -> 7 | D15: M_Corp | J15: - | O15: 法人情報
B16: =B15+1 -> 8 | D16: M_Area | J16: - | O16: 地域情報
B17: =B16+1 -> 9 | D17: M_FreeType | J17: - | O17: 自由集計種別
B18: =B17+1 -> 10 | D18: D_Customer | J18: - | O18: 顧客基本情報
B19: =B18+1 -> 11 | D19: D_CustomerTel | J19: - | O19: 顧客電話
B20: =B19+1 -> 12 | D20: D_CustomerFree | J20: - | O20: 顧客自由集計
B21: =B20+1 -> 13 | D21: D_CustomerPoint | J21: - | O21: 顧客ポイント
B22: =B21+1 -> 14 | D22: D_CustomerHistory | J22: - | O22: 顧客利用履歴
B23: =B22+1 -> 15 | J23: -
B24: =B23+1 -> 16 | J24: -
B25: =B24+1 -> 17 | J25: -
B26: =B25+1 -> 18 | J26: -
B27: =B26+1 -> 19 | J27: -
B28: =B27+1 -> 20
B29: =B28+1 -> 21
B30: =B29+1 -> 22
B31: =B30+1 -> 23
B32: =B31+1 -> 24
B33: =B32+1 -> 25
B34: =B33+1 -> 26
B35: =B34+1 -> 27
B36: =B35+1 -> 28
B37: =B36+1 -> 29
B38: =B37+1 -> 30
B39: =B38+1 -> 31
... B46: =B45+1 -> 38

Sheet Enum定数
B2: ■権限レベル(EAuthorityType)
C3: 名称 | O3: 値 | R3: 備考
C4: Normal | O4: 0 | R4: 権限関連マスタを参照し、権限を決める
C5: Supper | O5: 1 | R5: 特別権限、権限関連マスタ関係なし、任意操作可能
B7: ■言語(ELanguageType)
C8: 名称 | O8: 値 | R8: 備考
C9: Japanese | O9: 0 | R9: 日本語
C10: English | O10: 1 | R10: 英語
C11: Chinese | O11: 2 | R11: 中国語
B13: ■性別(ESexType)
C14: 名称 | O14: 値 | R14: 備考
C15: None | O15: 0 | R15: 不明
C16: Male | O16: 1 | R16: 男性
C17: FeMale | O17: 2 | R17: 女性
B19: ■掛区分(ECreditType)
C20: 名称 | O20: 値 | R20: 備考
C21: None | O21: 0 | R21: なし
C22: Sale | O22: 1 | R22: 売掛
C23: Buy | O23: 2 | R23: 買掛
B25: ■支払区分(EPayCondType)
C26: 名称 | O26: 値 | R26: 備考
C27: ThisMonth | O27: 0 | R27: 当月
C28: NextMonth | O28: 1 | R28: 翌月
C29: TwoMonthsLater | O29: 2 | R29: 翌々月
C30: ThreeMonthsLater | O30: 3 | R30: 3ヶ月後
B32: ■電話種別(ETelKind)
C33: 名称 | O33: 値 | R33: 備考
C34: Mobile | O34: 0 | R34: 携帯
C35: Tel | O35: 1 | R35: 自宅TEL
C36: Fax | O36: 2 | R36: 自宅FAX
C37: CorpTel | O37: 3 | R37: 会社TEL
C38: CorpFax | O38: 4 | R38: 会社FAX
B40: ■ポイントデータ種類(EPointDataType)
C41: 名称 | O41: 値 | R41: 備考
C42: Add | O42: 0 | R42: 付与
C43: Adjust | O43: 1 | R43: 調整
C44: Back | O44: 2 | R44: 還元
C45: Expired | O45: 3 | R45: 期限切れ
B47: ■自由集計種類(EFreeDataType)
C48: 名称 | O48: 値 | R48: 備考
C49: Separator | O49: 0 | R49: セパレーター
C50: Text | O50: 1 | R50: テキスト
C51: Number | O51: 2 | R51: 数値
C52: DateTime | O52: 3 | R52: 日時、時分
C53: Select | O53: 4 | R53: 選択(編集可・不可：設定可能)
C54: CheckList | O54: 5 | R54: チェックリスト（複数選択）
C55: URL | O55: 6 | R55: URL
C56: Address | O56: 7 | R56: 住所（分割入力可能）
C57: ZipCode | O57: 8 | R57: 郵便番号
C58: Tel | O58: 9 | R58: 電話番号・FAX
C59: Mail | O59: 10 | R59: メールアドレス
C60: File | O60: 11 | R60: ファイル (イメージファイル可能)

Sheet テンプレート
A1: =履历!A1 -> 種類 | G1: 项目名 | K1: =履历!K1 -> HotelCommon(共通DB) | AB1: 作成 | AE1: 小木 | AI1: 44609
A2: =履历!A2 -> DB設計書 | AB2: 更新 | AE2: 小木 | AI2: 44609
B4: テーブル名 | S4: PARTITION構成 | X4: myPartitionSchema | AF4: 列名 | AH4: ID
B5: 説明 | G5: 下記のデータ型しか使わない
B6: No | D6: 項目名 | K6: 説明 | S6: 型 | X6: PK | Z6: 備考
B7: 1 | D7: ID | K7: 自動識別ID例 | S7: int | X7: PK | Z7: Import、削除⇒新規を考慮の場合、AUTOを使用しない、CREATE SEQUENCE採番を進め
B8: =B7+1 -> 2 | D8: Name | K8: 名称 | S8: nvarchar(?)
B9: =B8+1 -> 3 | D9: Type1 | K9: 区分など0～255まで | S9: tinyint | Z9: 0～255
B10: =B9+1 -> 4 | D10: Type2 | K10: 2バイト数字 | S10: smallint | Z10: -32,768～32,767
B11: =B10+1 -> 5 | D11: Type3 | K11: 4バイト数字 | S11: int | Z11: -2,147,483,648～2,147,483,647
B12: =B11+1 -> 6 | D12: Type4 | K12: 8バイト数字 | S12: bigint
B13: =B12+1 -> 7 | D13: UseDate | K13: 年月日のみ | S13: int | Z13: yyyyMMdd
B14: =B13+1 -> 8 | D14: UpdateDate | K14: 更新日時 | S14: datetime | Z14: yyyy/MM/dd HH:mm:ss.fff
B15: =B14+1 -> 9 | D15: Flag | K15: 可否、フラグ | S15: bit | Z15: 0、1
B16: =B15+1 -> 10 | D16: Price | K16: 金額(9 Bytes) 標準 | S16: decimal(19, 2) | Z16: ※money=decimal(19, 4) 8byteですが、標準ではないので、使わない
B17: =B16+1 -> 11 | D17: EnName | K17: 英文字 | S17: varchar(?) | Z17: 絶対Asc文字の場合使用する
B18: =B17+1 -> 12 | D18: Data | K18: イメージなど | S18: varbinary(max) | Z18: ntext、text、imageを使用禁止
B19: =B18+1 -> 13 | D19: CinTime | K19: 時間 | S19: smallint | Z19: HHmm
B20: =B19+1 -> 14
B21: =B20+1 -> 15
B22: =B21+1 -> 16
B23: =B22+1 -> 17
B24: =B23+1 -> 18
B25: =B24+1 -> 19
B26: =B25+1 -> 20
B27: =B26+1 -> 21
B28: =B27+1 -> 22
B29: =B28+1 -> 23
B30: =B29+1 -> 24
B31: =B30+1 -> 25
... B49: =B48+1 -> 43

Sheet S_Report
A1: =履历!A1 -> 種類 | G1: 项目名 | K1: =履历!K1 -> HotelCommon(共通DB) | AB1: 作成 | AE1: 小木 | AI1: 44609
A2: =履历!A2 -> DB設計書 | AB2: 更新 | AE2: 小木 | AI2: 44609
B4: テーブル名 | G4: S_Report | S4: PARTITION構成 | AF4: 列名
B5: 説明 | G5: 帳票マスタ
B6: No | D6: 項目名 | K6: 説明 | S6: 型 | X6: PK | Z6: 備考
B7: 1 | D7: ID | K7: 識別番号 | S7: int | X7: PK
B8: =B7+1 -> 2 | D8: Name | K8: 名称 | S8: nvarchar(250)
B9: =B8+1 -> 3 | D9: Type | K9: 種類 | S9: tinyint
B10: =B9+1 -> 4 | D10: UpdateDate | K10: 更新日時 | S10: datetime
B11: =B10+1 -> 5 | D11: UpdateLoginID | K11: 更新担当者 | S11: int | Z11: HotelCommon.M_Login
B12: =B11+1 -> 6 | D12: UpdatePcName | K12: 更新端末 | S12: nvarchar(50)
B13: =B12+1 -> 7 | D13: UpdateID | K13: 更新ID | S13: int | Z13: データ更新毎自動カウント（排他用など）
B14: =B13+1 -> 8
B15: =B14+1 -> 9
B16: =B15+1 -> 10
B17: =B16+1 -> 11
B18: =B17+1 -> 12
B19: =B18+1 -> 13
B20: =B19+1 -> 14
B21: =B20+1 -> 15
B22: =B21+1 -> 16
B23: =B22+1 -> 17
B24: =B23+1 -> 18
B25: =B24+1 -> 19
... B49: =B48+1 -> 43

Sheet S_ReportCol
A1: =履历!A1 -> 種類 | G1: 项目名 | K1: =履历!K1 -> HotelCommon(共通DB) | AB1: 作成 | AE1: 小木 | AI1: 44609
A2: =履历!A2 -> DB設計書 | AB2: 更新 | AE2: 小木 | AI2: 44609
B4: テーブル名 | G4: S_ReportCol | S4: PARTITION構成 | AF4: 列名
B5: 説明 | G5: 帳票列一覧マスタ
B6: No | D6: 項目名 | K6: 説明 | S6: 型 | X6: PK | Z6: 備考
B7: 1 | D7: ReportID | K7: 帳票ID | S7: int | X7: PK
B8: =B7+1 -> 2 | D8: ID | K8: 識別番号 | S8: int | X8: PK
B9: =B8+1 -> 3 | D9: Field | K9: 列名 | S9: nvarchar(50)
B10: =B9+1 -> 4 | D10: Name | K10: 表示名 | S10: nvarchar(50)
B11: =B10+1 -> 5 | D11: UpdateDate | K11: 更新日時 | S11: datetime
B12: =B11+1 -> 6 | D12: UpdateLoginID | K12: 更新担当者 | S12: int | Z12: HotelCommon.M_Login
B13: =B12+1 -> 7 | D13: UpdatePcName | K13: 更新端末 | S13: nvarchar(50)
B14: =B13+1 -> 8 | D14: UpdateID | K14: 更新ID | S14: int | Z14: データ更新毎自動カウント（排他用など）
B15: =B14+1 -> 9
B16: =B15+1 -> 10
B17: =B16+1 -> 11
B18: =B17+1 -> 12
B19: =B18+1 -> 13
B20: =B19+1 -> 14
B21: =B20+1 -> 15
B22: =B21+1 -> 16
B23: =B22+1 -> 17
B24: =B23+1 -> 18
B25: =B24+1 -> 19
B26: =B25+1 -> 20
... B49: =B48+1 -> 43

Sheet M_Authority
A1: =履历!A1 -> 種類 | G1: 项目名 | K1: =履历!K1 -> HotelCommon(共通DB) | AB1: 作成 | AE1: 小木 | AI1: 44609
A2: =履历!A2 -> DB設計書 | AB2: 更新 | AE2: 小木 | AI2: 44609
B4: テーブル名 | G4: M_Authority | S4: PARTITION構成 | AF4: 列名
B5: 説明 | G5: 権限情報
B6: No | D6: 項目名 | K6: 説明 | S6: 型 | X6: PK | Z6: 備考
B7: 1 | D7: ID | K7: ID | S7: int | X7: PK
B8: =B7+1 -> 2 | D8: Name | K8: 名称 | S8: nvarchar(50) | Z8: メニュー編集
B9: =B8+1 -> 3 | D9: GroupID | K9: 分類ID | S9: int
B10: =B9+1 -> 4
B11: =B10+1 -> 5
B12: =B11+1 -> 6
B13: =B12+1 -> 7
B14: =B13+1 -> 8
B15: =B14+1 -> 9
B16: =B15+1 -> 10
B17: =B16+1 -> 11
B18: =B17+1 -> 12
B19: =B18+1 -> 13
B20: =B19+1 -> 14
B21: =B20+1 -> 15
... B49: =B48+1 -> 43

Sheet M_Role
A1: =履历!A1 -> 種類 | G1: 项目名 | K1: =履历!K1 -> HotelCommon(共通DB) | AB1: 作成 | AE1: 小木 | AI1: 44609
A2: =履历!A2 -> DB設計書 | AB2: 更新 | AE2: 小木 | AI2: 44609
B4: テーブル名 | G4: M_Role | S4: PARTITION構成 | AF4: 列名
B5: 説明 | G5: ログイン役割情報
B6: No | D6: 項目名 | K6: 説明 | S6: 型 | X6: PK | Z6: 備考
B7: 1 | D7: ID | K7: ID | S7: int | X7: PK
B8: =B7+1 -> 2 | D8: Name | K8: 名称 | S8: nvarchar(50) | Z8: 権限グループ【例：管理者】
B9: =B8+1 -> 3
B10: =B9+1 -> 4
B11: =B10+1 -> 5
B12: =B11+1 -> 6
B13: =B12+1 -> 7
B14: =B13+1 -> 8
B15: =B14+1 -> 9
B16: =B15+1 -> 10
B17: =B16+1 -> 11
B18: =B17+1 -> 12
B19: =B18+1 -> 13
B20: =B19+1 -> 14
... B49: =B48+1 -> 43

Sheet M_RoleShip
A1: =履历!A1 -> 種類 | G1: 项目名 | K1: =履历!K1 -> HotelCommon(共通DB) | AB1: 作成 | AE1: 小木 | AI1: 44609
A2: =履历!A2 -> DB設計書 | AB2: 更新 | AE2: 小木 | AI2: 44609
B4: テーブル名 | G4: M_RoleShip | S4: PARTITION構成 | AF4: 列名
B5: 説明 | G5: ログイン役割の権限分配情報
B6: No | D6: 項目名 | K6: 説明 | S6: 型 | X6: PK | Z6: 備考
B7: 1 | D7: RoleID | K7: 役割ID | S7: int | X7: PK
B8: =B7+1 -> 2 | D8: AuthID | K8: 権限ID | S8: int | X8: PK
B9: =B8+1 -> 3
B10: =B9+1 -> 4
B11: =B10+1 -> 5
B12: =B11+1 -> 6
B13: =B12+1 -> 7
B14: =B13+1 -> 8
B15: =B14+1 -> 9
B16: =B15+1 -> 10
B17: =B16+1 -> 11
B18: =B17+1 -> 12
B19: =B18+1 -> 13
B20: =B19+1 -> 14
... B49: =B48+1 -> 43

Sheet M_Login
A1: =履历!A1 -> 種類 | G1: 项目名 | K1: =履历!K1 -> HotelCommon(共通DB) | AB1: 作成 | AE1: 小木 | AI1: 44609
A2: =履历!A2 -> DB設計書 | AB2: 更新 | AE2: 小木 | AI2: 44609
B4: テーブル名 | G4: M_Login | S4: PARTITION構成 | AF4: 列名
B5: 説明 | G5: ログイン情報(チェーン店の場合、共通顧客DBに格納する)
B6: No | D6: 項目名 | K6: 説明 | S6: 型 | X6: PK | Z6: 備考
B7: 1 | D7: ID | K7: 担当者ID | S7: int | X7: PK
B8: =B7+1 -> 2 | D8: RoleID | K8: 役割ID | S8: int | Z8: M_RoleのID
B9: =B8+1 -> 3 | D9: Name | K9: 氏名 | S9: nvarchar(50)
B10: =B9+1 -> 4 | D10: Kana | K10: カナ | S10: nvarchar(50)
B11: =B10+1 -> 5 | D11: Password | K11: パスワード | S11: nvarchar(50)
B12: =B11+1 -> 6 | D12: LanguageType | K12: 使用言語 | S12: tinyint
B13: =B12+1 -> 7 | D13: PWCreateDate | K13: パスワード生成日 | S13: int
B14: =B13+1 -> 8 | D14: DataType | K14: 担当種類 | S14: tinyint | Z14: 0.通常 1.営業担当
B15: =B14+1 -> 9
B16: =B15+1 -> 10
B17: =B16+1 -> 11
B18: =B17+1 -> 12
B19: =B18+1 -> 13
B20: =B19+1 -> 14
B21: =B20+1 -> 15
B22: =B21+1 -> 16
B23: =B22+1 -> 17
B24: =B23+1 -> 18
B25: =B24+1 -> 19
B26: =B25+1 -> 20
... B49: =B48+1 -> 43

Sheet M_Character
A1: =履历!A1 -> 種類 | G1: 项目名 | K1: =履历!K1 -> HotelCommon(共通DB) | AB1: 作成 | AE1: 小木 | AI1: 44609
A2: =履历!A2 -> DB設計書 | AB2: 更新 | AE2: 小木 | AI2: 44609
B4: テーブル名 | G4: M_Character | S4: PARTITION構成 | AF4: 列名
B5: 説明 | G5: 人物タイプ(VIP、要注意人物など)
B6: No | D6: 項目名 | K6: 説明 | S6: 型 | X6: PK | Z6: 備考
B7: 1 | D7: ID | K7: 識別番号 | S7: int | X7: PK
B8: =B7+1 -> 2 | D8: Name | K8: 名称 | S8: nvarchar(50)
B9: =B8+1 -> 3 | D9: Attention | K9: 要注意人物フラグ | S9: bit
B10: =B9+1 -> 4 | D10: DispColor | K10: 表示色 | S10: nvarchar(15) | Z10: A,R,G,B
B11: =B10+1 -> 5 | D11: UpdateDate | K11: 更新日時 | S11: datetime
B12: =B11+1 -> 6 | D12: UpdateLoginID | K12: 更新担当者 | S12: int | Z12: HotelCommon.M_Login
B13: =B12+1 -> 7 | D13: UpdatePcName | K13: 更新端末 | S13: nvarchar(50)
B14: =B13+1 -> 8 | D14: UpdateID | K14: 更新ID | S14: int | Z14: データ更新毎自動カウント（排他用など）
B15: =B14+1 -> 9
B16: =B15+1 -> 10
B17: =B16+1 -> 11
B18: =B17+1 -> 12
B19: =B18+1 -> 13
B20: =B19+1 -> 14
B21: =B20+1 -> 15
B22: =B21+1 -> 16
B23: =B22+1 -> 17
B24: =B23+1 -> 18
B25: =B24+1 -> 19
B26: =B25+1 -> 20
... B49: =B48+1 -> 43

Sheet M_Rank
A1: =履历!A1 -> 種類 | G1: 项目名 | K1: =履历!K1 -> HotelCommon(共通DB) | AB1: 作成 | AE1: 小木 | AI1: 44609
A2: =履历!A2 -> DB設計書 | AB2: 更新 | AE2: 小木 | AI2: 44609
B4: テーブル名 | G4: M_Rank | S4: PARTITION構成 | AF4: 列名
B5: 説明 | G5: 顧客ランク
B6: No | D6: 項目名 | K6: 説明 | S6: 型 | X6: PK | Z6: 備考
B7: 1 | D7: ID | K7: 識別番号 | S7: int | X7: PK
B8: =B7+1 -> 2 | D8: Name | K8: 名称 | S8: nvarchar(50)
B9: =B8+1 -> 3 | D9: UpdateDate | K9: 更新日時 | S9: datetime
B10: =B9+1 -> 4 | D10: UpdateLoginID | K10: 更新担当者 | S10: int | Z10: HotelCommon.M_Login
B11: =B10+1 -> 5 | D11: UpdatePcName | K11: 更新端末 | S11: nvarchar(50)
B12: =B11+1 -> 6 | D12: UpdateID | K12: 更新ID | S12: int | Z12: データ更新毎自動カウント（排他用など）
B13: =B12+1 -> 7
B14: =B13+1 -> 8
B15: =B14+1 -> 9
B16: =B15+1 -> 10
B17: =B16+1 -> 11
B18: =B17+1 -> 12
B19: =B18+1 -> 13
B20: =B19+1 -> 14
B21: =B20+1 -> 15
B22: =B21+1 -> 16
B23: =B22+1 -> 17
B24: =B23+1 -> 18
... B49: =B48+1 -> 43

Sheet M_Corp
A1: =履历!A1 -> 種類 | G1: 项目名 | K1: =履历!K1 -> HotelCommon(共通DB) | AB1: 作成 | AE1: 小木 | AI1: 44609
A2: =履历!A2 -> DB設計書 | AB2: 更新 | AE2: 小木 | AI2: 44609
B4: テーブル名 | G4: M_Corp | S4: PARTITION構成 | AF4: 列名
B5: 説明 | G5: 法人情報
B6: No | D6: 項目名 | K6: 説明 | S6: 型 | X6: PK | Z6: 備考
B7: 1 | D7: ID | K7: ID | S7: int | X7: PK
B8: =B7+1 -> 2 | D8: Name | K8: 名称 | S8: nvarchar(50)
B9: =B8+1 -> 3 | D9: Kana | K9: カナ | S9: nvarchar(50)
B10: =B9+1 -> 4 | D10: TitleID | K10: 敬称区分 | S10: tinyint | Z10: M_HonorificTitle
B11: =B10+1 -> 5 | D11: ZipCode | K11: 郵便番号 | S11: varchar(50) | Z11: M_Address
B12: =B11+1 -> 6 | D12: Prefecture | K12: 都道府県 | S12: nvarchar(20)
B13: =B12+1 -> 7 | D13: Address2 | K13: 都市 | S13: nvarchar(50)
B14: =B13+1 -> 8 | D14: Address3 | K14: 市町村 | S14: nvarchar(50)
B15: =B14+1 -> 9 | D15: Address4 | K15: 番地など | S15: nvarchar(1000)
B16: =B15+1 -> 10 | D16: Tel | K16: 電話番号 | S16: varchar(50)
B17: =B16+1 -> 11 | D17: Fax | K17: FAX | S17: varchar(50)
B18: =B17+1 -> 12 | D18: Mail | K18: メール | S18: nvarchar(100)
B19: =B18+1 -> 13 | D19: DM | K19: DM区分 | S19: bit | Z19: 0.送信不可 1.送信可能
B20: =B19+1 -> 14 | D20: CreditType | K20: 掛区分 | S20: tinyint
B21: =B20+1 -> 15 | D21: BillName | K21: 売掛名称 | S21: nvarchar(50)
B22: =B21+1 -> 16 | D22: BillKana | K22: 売掛カナ | S22: nvarchar(50)
B23: =B22+1 -> 17 | D23: BillZipCode | K23: 売掛郵便番号 | S23: varchar(50)
B24: =B23+1 -> 18 | D24: BillPrefecture | K24: 売掛都道府県 | S24: nvarchar(20)
B25: =B24+1 -> 19 | D25: BillAddress2 | K25: 売掛都市 | S25: nvarchar(50)
B26: =B25+1 -> 20 | D26: BillAddress3 | K26: 売掛市町村 | S26: nvarchar(50)
B27: =B26+1 -> 21 | D27: BillAddress4 | K27: 売掛番地など | S27: nvarchar(1000)
B28: =B27+1 -> 22 | D28: CutoffDay | K28: 締日 | S28: tinyint
B29: =B28+1 -> 23 | D29: PayCondType | K29: 支払区分 | S29: tinyint | Z29: 0.当月 1.翌月 2.翌々月 3.3ヶ月後
B30: =B29+1 -> 24 | D30: PayCondDay | K30: 支払条件日 | S30: tinyint
B31: =B30+1 -> 25 | D31: RebateRate | K31: リベート率 | S31: decimal(5, 2)
B32: =B31+1 -> 26 | D32: SpecFee | K32: 法人特別料金フラグ | S32: bit
B33: =B32+1 -> 27 | D33: UpdateDate | K33: 更新日時 | S33: datetime
B34: =B33+1 -> 28 | D34: UpdateLoginID | K34: 更新担当者 | S34: int | Z34: HotelCommon.M_Login
B35: =B34+1 -> 29 | D35: UpdatePcName | K35: 更新端末 | S35: nvarchar(50)
B36: =B35+1 -> 30 | D36: UpdateID | K36: 更新ID | S36: int | Z36: データ更新毎自動カウント（排他用など）
B37: =B36+1 -> 31
B38: =B37+1 -> 32
B39: =B38+1 -> 33
B40: =B39+1 -> 34
B41: =B40+1 -> 35
B42: =B41+1 -> 36
B43: =B42+1 -> 37
B44: =B43+1 -> 38
B45: =B44+1 -> 39
B46: =B45+1 -> 40
B47: =B46+1 -> 41
B48: =B47+1 -> 42
B49: =B48+1 -> 43

Sheet M_Area
A1: =履历!A1 -> 種類 | G1: 项目名 | K1: =履历!K1 -> HotelCommon(共通DB) | AB1: 作成 | AE1: 小木 | AI1: 44609
A2: =履历!A2 -> DB設計書 | AB2: 更新 | AE2: 小木 | AI2: 44609
B4: テーブル名 | G4: M_Area | S4: PARTITION構成 | AF4: 列名
B5: 説明 | G5: 地域
B6: No | D6: 項目名 | K6: 説明 | S6: 型 | X6: PK | Z6: 備考
B7: 1 | D7: ID | K7: 識別番号 | S7: int | X7: PK
B8: =B7+1 -> 2 | D8: Name | K8: 名称 | S8: nvarchar(50)
B9: =B8+1 -> 3 | D9: UpdateDate | K9: 更新日時 | S9: datetime
B10: =B9+1 -> 4 | D10: UpdateLoginID | K10: 更新担当者 | S10: int | Z10: HotelCommon.M_Login
B11: =B10+1 -> 5 | D11: UpdatePcName | K11: 更新端末 | S11: nvarchar(50)
B12: =B11+1 -> 6 | D12: UpdateID | K12: 更新ID | S12: int | Z12: データ更新毎自動カウント（排他用など）
B13: =B12+1 -> 7
B14: =B13+1 -> 8
B15: =B14+1 -> 9
B16: =B15+1 -> 10
B17: =B16+1 -> 11
B18: =B17+1 -> 12
B19: =B18+1 -> 13
B20: =B19+1 -> 14
B21: =B20+1 -> 15
B22: =B21+1 -> 16
B23: =B22+1 -> 17
B24: =B23+1 -> 18
... B49: =B48+1 -> 43

Sheet M_FreeType
A1: =履历!A1 -> 種類 | G1: 项目名 | K1: =履历!K1 -> HotelCommon(共通DB) | AB1: 作成 | AE1: 小木 | AI1: 44609
A2: =履历!A2 -> DB設計書 | AB2: 更新 | AE2: 小木 | AI2: 44609
B4: テーブル名 | G4: M_FreeType | S4: PARTITION構成 | AF4: 列名
B5: 説明 | G5: 自由集計種類
B6: No | D6: 項目名 | K6: 説明 | S6: 型 | X6: PK | Z6: 備考
B7: 1 | D7: ID | K7: 識別番号 | S7: int | X7: PK
B8: =B7+1 -> 2 | D8: Name | K8: 名称 | S8: nvarchar(50)
B9: =B8+1 -> 3 | D9: DataType | K9: データ種類 | S9: tinyint
B10: =B9+1 -> 4 | D10: UpdateDate | K10: 更新日時 | S10: datetime
B11: =B10+1 -> 5 | D11: UpdateLoginID | K11: 更新担当者 | S11: int | Z11: HotelCommon.M_Login
B12: =B11+1 -> 6 | D12: UpdatePcName | K12: 更新端末 | S12: nvarchar(50)
B13: =B12+1 -> 7 | D13: UpdateID | K13: 更新ID | S13: int | Z13: データ更新毎自動カウント（排他用など）
B14: =B13+1 -> 8
B15: =B14+1 -> 9
B16: =B15+1 -> 10
B17: =B16+1 -> 11
B18: =B17+1 -> 12
B19: =B18+1 -> 13
B20: =B19+1 -> 14
B21: =B20+1 -> 15
B22: =B21+1 -> 16
B23: =B22+1 -> 17
B24: =B23+1 -> 18
B25: =B24+1 -> 19
... B49: =B48+1 -> 43

Sheet D_Customer
A1: =履历!A1 -> 種類 | G1: 项目名 | K1: =履历!K1 -> HotelCommon(共通DB) | AB1: 作成 | AE1: 小木 | AI1: 44609
A2: =履历!A2 -> DB設計書 | AB2: 更新 | AE2: 小木 | AI2: 44609
B4: テーブル名 | G4: D_Customer | S4: PARTITION構成 | AF4: 列名
B5: 説明 | G5: 顧客基本情報
B6: No | D6: 項目名 | K6: 説明 | S6: 型 | X6: PK | Z6: 備考
B7: 1 | D7: ID | K7: 顧客ID | S7: int | X7: PK | Z7: SeqCustomer
B8: =B7+1 -> 2 | D8: MemberNo | K8: 会員番号 | S8: nvarchar(50) | Z8: SeqMemberより連番管理
B9: =B8+1 -> 3 | D9: Kana | K9: カナ | S9: nvarchar(50)
B10: =B9+1 -> 4 | D10: Name | K10: 氏名 | S10: nvarchar(50)
B11: =B10+1 -> 5 | D11: ReceiptName | K11: 宛名 | S11: nvarchar(50)
B12: =B11+1 -> 6 | D12: ZipCode | K12: 郵便番号 | S12: varchar(50) | Z12: M_Address
B13: =B12+1 -> 7 | D13: Prefecture | K13: 都道府県 | S13: nvarchar(20)
B14: =B13+1 -> 8 | D14: Address2 | K14: 都市 | S14: nvarchar(50)
B15: =B14+1 -> 9 | D15: Address3 | K15: 市町村 | S15: nvarchar(50)
B16: =B15+1 -> 10 | D16: Address4 | K16: 番地など | S16: nvarchar(100)
B17: =B16+1 -> 11 | D17: Mail | K17: メール | S17: nvarchar(100)
B18: =B17+1 -> 12 | D18: PassportNo | K18: パスポート | S18: nvarchar(50)
B19: =B18+1 -> 13 | D19: Sex | K19: 性別 | S19: tinyint | Z19: 0.不明 1.男性 2.女性
B20: =B19+1 -> 14 | D20: BirthDay | K20: 誕生日 | S20: int
B21: =B20+1 -> 15 | D21: Anniversary | K21: 記念日 | S21: int
B22: =B21+1 -> 16 | D22: CharacterType | K22: 人物タイプ | S22: int | Z22: M_Character
B23: =B22+1 -> 17 | D23: RankID | K23: タンクID | S23: int | Z23: M_Rank
B24: =B23+1 -> 18 | D24: CorpID | K24: 法人ID | S24: int | Z24: M_Corp
B25: =B24+1 -> 19 | D25: CorpKana | K25: 法人カナ | S25: nvarchar(50)
B26: =B25+1 -> 20 | D26: CorpName | K26: 法人名称 | S26: nvarchar(50)
B27: =B26+1 -> 21 | D27: CorpZipCode | K27: 法人郵便番号 | S27: varchar(50)
B28: =B27+1 -> 22 | D28: CorpPrefecture | K28: 都道府県 | S28: nvarchar(20)
B29: =B28+1 -> 23 | D29: CorpAddress2 | K29: 都市 | S29: nvarchar(50)
B30: =B29+1 -> 24 | D30: CorpAddress3 | K30: 市町村 | S30: nvarchar(50)
B31: =B30+1 -> 25 | D31: CorpAddress4 | K31: 番地など | S31: nvarchar(100)
B32: =B31+1 -> 26 | D32: CorpMail | K32: 法人メール | S32: nvarchar(100)
B33: =B32+1 -> 27 | D33: HonorificTitleID | K33: 敬称ID | S33: tinyint | Z33: M_HonorificTitle
B34: =B33+1 -> 28 | D34: Memo | K34: 備考 | S34: nvarchar(500)
B35: =B34+1 -> 29 | D35: AreaID | K35: 地域ID | S35: int | Z35: M_Area
B36: =B35+1 -> 30 | D36: CreateDate | K36: 作成日時 | S36: datetime
B37: =B36+1 -> 31 | D37: CreateLoginID | K37: 作成担当者 | S37: int
B38: =B37+1 -> 32 | D38: CreatePcName | K38: 作成端末 | S38: nvarchar(50)
B39: =B38+1 -> 33 | D39: UpdateDate | K39: 更新日時 | S39: datetime
B40: =B39+1 -> 34 | D40: UpdateLoginID | K40: 更新担当者 | S40: int
B41: =B40+1 -> 35 | D41: UpdatePcName | K41: 更新端末 | S41: nvarchar(50)
B42: =B41+1 -> 36 | D42: UpdateID | K42: 更新ID | S42: int | Z42: 更新世代
B43: =B42+1 -> 37
B44: =B43+1 -> 38
B45: =B44+1 -> 39
B46: =B45+1 -> 40
B47: =B46+1 -> 41
B48: =B47+1 -> 42
B49: =B48+1 -> 43

Sheet D_CustomerTel
A1: =履历!A1 -> 種類 | G1: 项目名 | K1: =履历!K1 -> HotelCommon(共通DB) | AB1: 作成 | AE1: 小木 | AI1: 44609
A2: =履历!A2 -> DB設計書 | AB2: 更新 | AE2: 小木 | AI2: 44609
B4: テーブル名 | G4: D_CustomerTel | S4: PARTITION構成 | AF4: 列名
B5: 説明 | G5: 顧客電話
B6: No | D6: 項目名 | K6: 説明 | S6: 型 | X6: PK | Z6: 備考
B7: 1 | D7: ID | K7: 顧客ID | S7: int | X7: PK
B8: =B7+1 -> 2 | D8: Tel | K8: 電話番号 | S8: varchar(50) | X8: PK
B9: =B8+1 -> 3 | D9: Kind | K9: 種類 | S9: tinyint | Z9: 0.携帯 1.自宅
B10: =B9+1 -> 4 | D10: SearchKey | K10: 検索用「-」除く | S10: varchar(50) | Z10: 検索用電話番号
B11: =B10+1 -> 5 | D11: SortID | K11: 優先順 | S11: tinyint
B12: =B11+1 -> 6
B13: =B12+1 -> 7
B14: =B13+1 -> 8
B15: =B14+1 -> 9
B16: =B15+1 -> 10
B17: =B16+1 -> 11
B18: =B17+1 -> 12
B19: =B18+1 -> 13
B20: =B19+1 -> 14
B21: =B20+1 -> 15
B22: =B21+1 -> 16
B23: =B22+1 -> 17
... B49: =B48+1 -> 43

Sheet D_CustomerFree
A1: =履历!A1 -> 種類 | G1: 项目名 | K1: =履历!K1 -> HotelCommon(共通DB) | AB1: 作成 | AE1: 小木 | AI1: 44609
A2: =履历!A2 -> DB設計書 | AB2: 更新 | AE2: 小木 | AI2: 44609
B4: テーブル名 | G4: D_CustomerFree | S4: PARTITION構成 | AF4: 列名
B5: 説明 | G5: 顧客自由集計
B6: No | D6: 項目名 | K6: 説明 | S6: 型 | X6: PK | Z6: 備考
B7: 1 | D7: ID | K7: 顧客ID | S7: int | X7: PK
B8: =B7+1 -> 2 | D8: TypeID | K8: 種類 | S8: int | X8: PK | Z8: 自由集計項目の種類
B9: =B8+1 -> 3 | D9: DataValue | K9: 値 | S9: nvarchar(500)
B10: =B9+1 -> 4
B11: =B10+1 -> 5
B12: =B11+1 -> 6
B13: =B12+1 -> 7
B14: =B13+1 -> 8
B15: =B14+1 -> 9
B16: =B15+1 -> 10
B17: =B16+1 -> 11
B18: =B17+1 -> 12
B19: =B18+1 -> 13
B20: =B19+1 -> 14
B21: =B20+1 -> 15
... B49: =B48+1 -> 43

Sheet D_CustomerPoint
A1: =履历!A1 -> 種類 | G1: 项目名 | K1: =履历!K1 -> HotelCommon(共通DB) | AB1: 作成 | AE1: 小木 | AI1: 44609
A2: =履历!A2 -> DB設計書 | AB2: 更新 | AE2: 小木 | AI2: 44609
B4: テーブル名 | G4: D_CustomerPoint | S4: PARTITION構成 | AF4: 列名
B5: 説明 | G5: 顧客ポイント
B6: No | D6: 項目名 | K6: 説明 | S6: 型 | X6: PK | Z6: 備考
B7: 1 | D7: ID | K7: 顧客ID | S7: int | X7: PK
B8: =B7+1 -> 2 | D8: SubID | K8: 連番 | S8: int | X8: PK | Z8: SeqPoint
B9: =B8+1 -> 3 | D9: DataType | K9: 種類 | S9: tinyint | Z9: 0.付与 1.調整 2.還元 3.期限切れ
B10: =B9+1 -> 4 | D10: OpeDate | K10: 操作日 | S10: int
B11: =B10+1 -> 5 | D11: HotelID | K11: ホテルID | S11: int | Z11: チェーン店対応
B12: =B11+1 -> 6 | D12: UseID | K12: 利用ID | S12: int
B13: =B12+1 -> 7 | D13: UseDetailID | K13: 利用明細ID | S13: int | Z13: 連泊部屋毎
B14: =B13+1 -> 8 | D14: TotalSummary | K14: 売上総額 | S14: decimal(19, 2)
B15: =B14+1 -> 9 | D15: Point | K15: ポイント | S15: int | Z15: 2.還元 3.期限切れの時、マイナス
B16: =B15+1 -> 10 | D16: PointSummary | K16: 対象売上金額 | S16: decimal(19, 2)
B17: =B16+1 -> 11 | D17: PointReason | K17: ポイント理由 | S17: nvarchar(100)
B18: =B17+1 -> 12 | D18: RoomID | K18: 部屋ID | S18: int
B19: =B18+1 -> 13
B20: =B19+1 -> 14
B21: =B20+1 -> 15
B22: =B21+1 -> 16
B23: =B22+1 -> 17
B24: =B23+1 -> 18
B25: =B24+1 -> 19
B26: =B25+1 -> 20
B27: =B26+1 -> 21 | X27: PK
B28: =B27+1 -> 22
B29: =B28+1 -> 23
B30: =B29+1 -> 24
B31: =B30+1 -> 25
B32: =B31+1 -> 26
B33: =B32+1 -> 27
B34: =B33+1 -> 28
B35: =B34+1 -> 29
B36: =B35+1 -> 30
B37: =B36+1 -> 31
B38: =B37+1 -> 32
B39: =B38+1 -> 33
... B49: =B48+1 -> 43

Sheet D_CustomerHistory
A1: =履历!A1 -> 種類 | G1: 项目名 | K1: =履历!K1 -> HotelCommon(共通DB) | AB1: 作成 | AE1: 小木 | AI1: 44609
A2: =履历!A2 -> DB設計書 | AB2: 更新 | AE2: 小木 | AI2: 44609
B4: テーブル名 | G4: D_CustomerHistory | S4: PARTITION構成 | AF4: 列名
B5: 説明 | G5: 顧客利用履歴
B6: No | D6: 項目名 | K6: 説明 | S6: 型 | X6: PK | Z6: 備考
B7: 1 | D7: ID | K7: 顧客ID | S7: int | X7: PK
B8: =B7+1 -> 2 | D8: HotelID | K8: ホテルID | S8: int | X8: PK | Z8: チェーン店対応
B9: =B8+1 -> 3 | D9: UseID | K9: 利用ID | S9: int | X9: PK
B10: =B9+1 -> 4 | D10: UseDetailID | K10: 利用明細ID | S10: int | X10: PK | Z10: 連泊部屋毎
B11: =B10+1 -> 5 | D11: UseDate | K11: 利用日 | S11: int | X11: PK
B12: =B11+1 -> 6 | D12: RoomID | K12: 部屋ID | S12: int
B13: =B12+1 -> 7 | D13: CinDate | K13: チェックイン日 | S13: int
B14: =B13+1 -> 8 | D14: CinTime | K14: 到着時間 | S14: smallint
B15: =B14+1 -> 9 | D15: Stay | K15: 泊数 | S15: int
B16: =B15+1 -> 10 | D16: CoutDate | K16: チェックアウト日 | S16: int
B17: =B16+1 -> 11 | D17: CoutTime | K17: 出発時間 | S17: smallint
B18: =B17+1 -> 12 | D18: CinPerson | K18: チェックイン担当者 | S18: nvarchar(50)
B19: =B18+1 -> 13 | D19: CoutPerson | K19: チェックアウト担当者 | S19: nvarchar(50)
B20: =B19+1 -> 14 | D20: CancelPerson | K20: キャンセル担当者 | S20: nvarchar(50)
B21: =B20+1 -> 15 | D21: Agent | K21: エージェント | S21: nvarchar(50)
B22: =B21+1 -> 16 | D22: AgentBranch | K22: エージェント支店 | S22: nvarchar(50)
B23: =B22+1 -> 17 | D23: ItemID | K23: 科目ID | S23: nvarchar(50)
B24: =B23+1 -> 18 | D24: ItemName | K24: 科目名称 | S24: nvarchar(50)
B25: =B24+1 -> 19 | D25: BasisSummary | K25: 室料 | S25: decimal(19, 2) | Z25: 基本科目の本体額+サービス料
B26: =B25+1 -> 20 | D26: TotalSummary | K26: 合計金額 | S26: decimal(19, 2)
B27: =B26+1 -> 21 | D27: Memo | K27: メモ | S27: nvarchar(1000)
B28: =B27+1 -> 22 | D28: DataType | K28: データ種類 | S28: tinyint | Z28: コンバートデータかどうかなど
B29: =B28+1 -> 23 | D29: UpdateDate | K29: 更新日時 | S29: datetime
B30: =B29+1 -> 24 | D30: UpdateLoginID | K30: 更新担当者 | S30: int
B31: =B30+1 -> 25 | D31: UpdatePcName | K31: 更新端末 | S31: nvarchar(50)
B32: =B31+1 -> 26 | D32: UpdateID | K32: 更新ID | S32: int | Z32: 更新世代
B33: =B32+1 -> 27
B34: =B33+1 -> 28
B35: =B34+1 -> 29
B36: =B35+1 -> 30
B37: =B36+1 -> 31
B38: =B37+1 -> 32
B39: =B38+1 -> 33
B40: =B39+1 -> 34
B41: =B40+1 -> 35
B42: =B41+1 -> 36
B43: =B42+1 -> 37
B44: =B43+1 -> 38
... B49: =B48+1 -> 43
